BEGIN:VCALENDAR
VERSION:2.0
PRODID:-//nuYou Naples - ECPv6.15.20//NONSGML v1.0//EN
CALSCALE:GREGORIAN
METHOD:PUBLISH
X-WR-CALNAME:nuYou Naples
X-ORIGINAL-URL:https://nuyounaples.com
X-WR-CALDESC:Events for nuYou Naples
REFRESH-INTERVAL;VALUE=DURATION:PT1H
X-Robots-Tag:noindex
X-PUBLISHED-TTL:PT1H
BEGIN:VTIMEZONE
TZID:America/New_York
BEGIN:DAYLIGHT
TZOFFSETFROM:-0500
TZOFFSETTO:-0400
TZNAME:EDT
DTSTART:20230312T070000
END:DAYLIGHT
BEGIN:STANDARD
TZOFFSETFROM:-0400
TZOFFSETTO:-0500
TZNAME:EST
DTSTART:20231105T060000
END:STANDARD
BEGIN:DAYLIGHT
TZOFFSETFROM:-0500
TZOFFSETTO:-0400
TZNAME:EDT
DTSTART:20240310T070000
END:DAYLIGHT
BEGIN:STANDARD
TZOFFSETFROM:-0400
TZOFFSETTO:-0500
TZNAME:EST
DTSTART:20241103T060000
END:STANDARD
BEGIN:DAYLIGHT
TZOFFSETFROM:-0500
TZOFFSETTO:-0400
TZNAME:EDT
DTSTART:20250309T070000
END:DAYLIGHT
BEGIN:STANDARD
TZOFFSETFROM:-0400
TZOFFSETTO:-0500
TZNAME:EST
DTSTART:20251102T060000
END:STANDARD
END:VTIMEZONE
BEGIN:VEVENT
DTSTART;TZID=America/New_York:20241208T183000
DTEND;TZID=America/New_York:20241208T210000
DTSTAMP:20260423T144934
CREATED:20241031T182637Z
LAST-MODIFIED:20241208T064935Z
UID:10000103-1733682600-1733691600@nuyounaples.com
SUMMARY:Feminine Embodiment Workshop
DESCRIPTION:Be guided to release stored negative emotions and  allow expansion of your heart\, authentically aligning with true self.\n\n\nBeloved community\, I’m thrilled to announce that I’ll be home and would love to connect and offer a chance to experience Life Energy Activation! I’m traveling and offering transformative workshops in the Virginia Beach and Richmand area over the next several months as well as in Naples\, FL.  These workshops are designed to help individuals connect deeply with their inner selves\, explore their life energy\, and experience profound personal growth. \nWhether you call it Kundalini\, Pranayama\, Divine Force or any of the many names\, our upcoming event\, “Life Energy Activation\,” is available on Eventbrite. This workshop is a powerful opportunity to activate your life energy\, align with your higher self\, and experience a deeper sense of connection and vitality. Beyond this\, I’m excited to offer a range of other transformative experiences\, including Feminine Embodiment Workshops\, Ecstatic Dances\, Guided Embodiment Meditations\, and Tantra sessions. \n \nThank you so much for taking the time to read this. I’ve included more information below!  I hope to re-connect with you all very soon!  Don’t forget to use the discount code LocalLove to save $45 off!
URL:https://nuyounaples.com/event/feminine-embodiment-workshop/
LOCATION:Miss Jennifer’s Dance Studio\, 785 South 2nd Street\, Coshocton\, OH\, 43812\, United States
ATTACH;FMTTYPE=image/jpeg:https://nuyounaples.com/wp-content/uploads/2024/10/ce3a4e28d93c12d8b18f98b0554fffe3-4CGdLA.tmp_.jpg
END:VEVENT
END:VCALENDAR