BEGIN:VCALENDAR
VERSION:2.0
PRODID:-//nuYou Naples - ECPv6.15.20//NONSGML v1.0//EN
CALSCALE:GREGORIAN
METHOD:PUBLISH
X-WR-CALNAME:nuYou Naples
X-ORIGINAL-URL:https://nuyounaples.com
X-WR-CALDESC:Events for nuYou Naples
REFRESH-INTERVAL;VALUE=DURATION:PT1H
X-Robots-Tag:noindex
X-PUBLISHED-TTL:PT1H
BEGIN:VTIMEZONE
TZID:America/New_York
BEGIN:DAYLIGHT
TZOFFSETFROM:-0500
TZOFFSETTO:-0400
TZNAME:EDT
DTSTART:20250309T070000
END:DAYLIGHT
BEGIN:STANDARD
TZOFFSETFROM:-0400
TZOFFSETTO:-0500
TZNAME:EST
DTSTART:20251102T060000
END:STANDARD
BEGIN:DAYLIGHT
TZOFFSETFROM:-0500
TZOFFSETTO:-0400
TZNAME:EDT
DTSTART:20260308T070000
END:DAYLIGHT
BEGIN:STANDARD
TZOFFSETFROM:-0400
TZOFFSETTO:-0500
TZNAME:EST
DTSTART:20261101T060000
END:STANDARD
BEGIN:DAYLIGHT
TZOFFSETFROM:-0500
TZOFFSETTO:-0400
TZNAME:EDT
DTSTART:20270314T070000
END:DAYLIGHT
BEGIN:STANDARD
TZOFFSETFROM:-0400
TZOFFSETTO:-0500
TZNAME:EST
DTSTART:20271107T060000
END:STANDARD
END:VTIMEZONE
BEGIN:VEVENT
DTSTART;TZID=America/New_York:20260514T190000
DTEND;TZID=America/New_York:20260514T210000
DTSTAMP:20260423T124740
CREATED:20260406T215423Z
LAST-MODIFIED:20260410T192107Z
UID:10000328-1778785200-1778792400@nuyounaples.com
SUMMARY:Keys to Connection: An Intimate Piano Bar Experience for Couples
DESCRIPTION:Unlock a New Rhythm of Connection\nAn Intimate Evening of Live Music\, Insight\, and Elegance \nAre you tired of the “same old” dinner date? Whether you’ve been together for twenty years or you’re navigating the Naples dating scene\, it’s easy for connection to fall into a predictable routine. \nJoin Relationship Expert & Intimacy Coach Michelle Lea for an exclusive\, interactive experience at the iconic Escargot 41 Piano Bar. This isn’t a seminar or therapy\, it’s a sophisticated night out designed to help you break old patterns and rediscover the spark through the power of presence\, play\, and live music. \n\nThe Experience\nArrive and check between 6-6:45pm to be eligible for giveaways and door prizes. \n\n\nLive Piano: Set the mood with soulful melodies and nostalgic hits that bridge the gap between heart and harmony. \n\n\nThe “Keys” to Intimacy: Michelle Lea shares playful\, non-clinical strategies to enhance communication and nervous system awareness. \n\n\nThe Art of the Spark: Discover why “nothing is wrong” in your relationship there is simply more possible. \n\n\nWellness & Vitality: Insights on how hormones\, aging and energy impact your connection. \n\n\n\nOver $700 in Door Prizes!\nWe believe in rewarding those who prioritize their relationships. Every pre-registered guest who arrive before 6:45pm will be entered into our grand prize drawing: \n\n\nThe Ultimate Date Night: A $200 Gift Certificate to Escargot 41. \n\n\nThe Transformation Package: A $500 Private Coaching Session with Michelle Lea. \n\n\nPlus additional surprise giveaways throughout the evening! \n\n\n\nEvent Details\n\n\nWhen: Thursday\, May 14 \n\n\nTime: 7:00 PM – 9:00 PM (Doors open at 6:00 PM for drinks and dining) \n\n\nWhere: Escargot 41 – Piano Bar\, Naples\, FL \n\n\nInvestment: $30 per Couple  \n\n\nNote: To maintain the intimacy of the evening\, seating is strictly limited. Pre-registration is highly recommended to secure your table and double your raffle entries! There is a $50 min purchase per person. \nMedia Consent & Release\nBy purchasing this ticket and entering the event\, you consent to being photographed\, filmed\, and/or recorded. You grant Michelle Lea and Escargot 41 the right to use your image\, likeness\, and voice in any media (including social media\, website\, and ads) for promotional purposes\, worldwide and in perpetuity\, without compensation or further approval.
URL:https://nuyounaples.com/event/keystoconnection/
LOCATION:Escargot 41
ATTACH;FMTTYPE=image/jpeg:https://nuyounaples.com/wp-content/uploads/2026/04/IMG_4649.jpeg
END:VEVENT
END:VCALENDAR