BEGIN:VCALENDAR
VERSION:2.0
PRODID:-//nuYou Naples - ECPv6.15.20//NONSGML v1.0//EN
CALSCALE:GREGORIAN
METHOD:PUBLISH
X-WR-CALNAME:nuYou Naples
X-ORIGINAL-URL:https://nuyounaples.com
X-WR-CALDESC:Events for nuYou Naples
REFRESH-INTERVAL;VALUE=DURATION:PT1H
X-Robots-Tag:noindex
X-PUBLISHED-TTL:PT1H
BEGIN:VTIMEZONE
TZID:America/New_York
BEGIN:DAYLIGHT
TZOFFSETFROM:-0500
TZOFFSETTO:-0400
TZNAME:EDT
DTSTART:20240310T070000
END:DAYLIGHT
BEGIN:STANDARD
TZOFFSETFROM:-0400
TZOFFSETTO:-0500
TZNAME:EST
DTSTART:20241103T060000
END:STANDARD
BEGIN:DAYLIGHT
TZOFFSETFROM:-0500
TZOFFSETTO:-0400
TZNAME:EDT
DTSTART:20250309T070000
END:DAYLIGHT
BEGIN:STANDARD
TZOFFSETFROM:-0400
TZOFFSETTO:-0500
TZNAME:EST
DTSTART:20251102T060000
END:STANDARD
BEGIN:DAYLIGHT
TZOFFSETFROM:-0500
TZOFFSETTO:-0400
TZNAME:EDT
DTSTART:20260308T070000
END:DAYLIGHT
BEGIN:STANDARD
TZOFFSETFROM:-0400
TZOFFSETTO:-0500
TZNAME:EST
DTSTART:20261101T060000
END:STANDARD
END:VTIMEZONE
BEGIN:VEVENT
DTSTART;TZID=America/New_York:20250209T160000
DTEND;TZID=America/New_York:20250209T173000
DTSTAMP:20260423T192453
CREATED:20250206T064745Z
LAST-MODIFIED:20250209T070532Z
UID:10000109-1739116800-1739122200@nuyounaples.com
SUMMARY:Life Energy Activation
DESCRIPTION:Are you ready to step into a space where you can reconnect with yourself\, recharge your body\, and enhance your mental clarity?\n\n\nAwaken Your Potential with LeActivation: The Future of Consciousness is Here. \n \nWhat is LeActivation? \nA revolutionary approach to personal growth that bridges ancient wisdom with modern healing techniques. \nFocused on activating your life energy to heal\, grow\, and awaken your true self. \nIntegrates principles of Tantra\, somatic healing\, energy work\, and self-mastery for a holistic transformation. \n \nThe Benefits of LeActivation \nUnlocks suppressed energy\, helping you tap into limitless creativity and vitality. \nFacilitates emotional healing by releasing old wounds\, traumas\, and energetic blockages. \nEnhances intimacy with yourself and others by fostering self-acceptance and confidence. \nSupports spiritual awakening and alignment with your higher purpose. \nProvides tools to embrace sovereignty\, joy\, and empowerment in all areas of life. \n \nWhy is LeActivation the Future of Consciousness? \nWe are entering a new era of awareness\, where humanity craves deeper connection\, healing\, and truth. \nLEA offers a cutting-edge system that blends science\, spirituality\, and ancient practices. \nIt aligns with the shift toward energy-based healing and consciousness expansion. \n \nWho Needs LeActivation? \nSeekers: Individuals exploring spiritual growth and higher consciousness. \nHealers and Coaches: Practitioners ready to deepen their tools and offer more profound transformation. \nProfessionals and Entrepreneurs: Those feeling burnt out or disconnected\, seeking clarity and renewed purpose. \nCouples: Partners wanting to enhance emotional intimacy and connection. \nAnyone Ready to Transform: If you feel stuck\, lost\, or misaligned\, LEA is the bridge to your next level. \n \nHow LeActivation Transforms Your Life \nEmotionally: You’ll release stagnant energy and embrace deep healing. \nMentally: Shift limiting beliefs and replace them with empowering thoughts. \nPhysically: Feel more energized\, alive\, and in tune with your body. \nSpiritually: Awaken to your divine purpose and live in alignment with your highest self. \n \nWhat to Expect \nThe session is structured with intention to guide you through a powerful journey: \n \nOpening and Intention Setting (20 minutes): Begin with mindful grounding and preparing your body and mind for the practice ahead. \n \nSpinal and Cerebrospinal Fluid Activation (15 minutes): Engage in movements and techniques to awaken and energize your spine\, promoting vitality and fluidity. \n \nBreathwork Sequence (20 minutes): A guided 3-part breathwork sequence will guide you into a theta state\, where your energy body is charged\, and your physical body deeply relaxes. \n \nIntegration and Restorative Phase (20-30 minutes): Enter a state of healing and connection with your subconscious as your body integrates the energy flow. \n \nClosing and Hydration (10 minutes): Return to the present moment with a calm\, refreshed mind. We’ll provide water if needed\, followed by a Q&A or sharing session. \n \nWhy It Matters \nModern science and ancient wisdom align in demonstrating how mindfulness\, breathwork\, and movement enhance our physical and mental health. Books such as The Body Keeps the Score and teachings from experts like Dr. Joe Dispenza\, Dr. Zach Bush\, and Dr. Deepak Chopra reveal how past events\, even from childhood\, can manifest as stress and physical blockages in the body. These blockages disrupt balance\, accelerate aging\, and limit overall vitality. \nActivating the body’s life force energy—known in many traditions as kundalini or chi—can help release these triggers\, allowing you to: \nReduce stress and cortisol levels \nIncrease focus and clarity \nEnhance energy and resilience \nConnect to your inner self and sense of purpose \n \nLeaders like Tony Robbins\, Ray Dalio\, and Arianna Huffington credit practices like breathwork and mindfulness for their success\, using these tools to stay calm\, creative\, and effective in high-pressure environments. This class offers you the opportunity to incorporate these proven techniques into your own life.
URL:https://nuyounaples.com/event/life-energy-activation/
LOCATION:nuYou\, 4482 Burton Road\, Naples\, FL\, 34104\, United States
ATTACH;FMTTYPE=image/jpeg:https://nuyounaples.com/wp-content/uploads/2025/02/64508434aee8f6048f92f24dded8821e-JfXtZY.tmp_.jpg
END:VEVENT
BEGIN:VEVENT
DTSTART;TZID=America/New_York:20250105T100000
DTEND;TZID=America/New_York:20250105T120000
DTSTAMP:20260423T192453
CREATED:20241127T035545Z
LAST-MODIFIED:20250104T164857Z
UID:10000108-1736071200-1736078400@nuyounaples.com
SUMMARY:Divine Resonance
DESCRIPTION:This isn’t just a workshop—it’s life-changing. Awaken your intuition\, restore your health\, and align your energy with the life you deserve!\n\n\n\n\nWelcome to Divine Resonance: A Seven-Week Journey to Inner Harmony and Empowerment \nAre you ready to awaken your intuition\, align your energy\, and step into the life you were meant to live? Divine Resonance is a transformative seven-week course designed to help you reconnect with your natural state of health\, balance\, and divine energy. \nJoin us for this powerful experience where we combine sound healing\, chakra activation\, meditation\, and modern insights to guide you toward inner peace\, self-trust\, and vibrant living. Whether you’re seeking deeper self-awareness\, enhanced wellness\, or a supportive community\, this course is your gateway to true transformation. \nRegistration Details:Register now for free! Once you’ve signed up\, you’ll receive a follow-up email with all the details\, including directions on how to attend\, what to bring\, and how to prepare for this sacred journey. \nSpace is limited\, so secure your spot today and begin the path to your highest potential. We can’t wait to see you! \n \n\n\nWhat to Bring to Divine Resonance \nTo fully immerse yourself in this transformative journey bring an open\, excepting mind and possible the following: \n\nA Journal and Pen: Capture your insights\, reflections\, and breakthroughs.\nComfortable Clothing: Dress in layers for ease during meditations and sound healing.\nCushion or Pillow: Create a comfortable space for grounding and relaxation.\nWater Bottle: Stay hydrated as we raise your energy and vibration.\nBe on time with an Open Heart and Mind: Be grounded. Be ready to explore\, heal\, and expand into your true self.\n\nOptional extras: blankets\, eye masks for meditation\, or small percussion instruments like shakers or bells to enhance your experience.
URL:https://nuyounaples.com/event/divine-resonance-2/
LOCATION:nuYou\, 4482 Burton Road\, Naples\, FL\, 34104\, United States
ATTACH;FMTTYPE=image/jpeg:https://nuyounaples.com/wp-content/uploads/2024/11/f7707259f9db9e003166320f1f3a4659-2sku8U.tmp_.jpg
END:VEVENT
BEGIN:VEVENT
DTSTART;TZID=America/New_York:20250104T100000
DTEND;TZID=America/New_York:20250104T120000
DTSTAMP:20260423T192453
CREATED:20241127T035542Z
LAST-MODIFIED:20250104T164855Z
UID:10000107-1735984800-1735992000@nuyounaples.com
SUMMARY:Divine Resonance
DESCRIPTION:This isn’t just a workshop—it’s life-changing. Awaken your intuition\, restore your health\, and align your energy with the life you deserve!\n\n\nWelcome to Divine Resonance: A Seven-Week Journey to Inner Harmony and Empowerment \nAre you ready to awaken your intuition\, align your energy\, and step into the life you were meant to live? Divine Resonance is a transformative seven-week course designed to help you reconnect with your natural state of health\, balance\, and divine energy. \nJoin us for this powerful experience where we combine sound healing\, chakra activation\, meditation\, and modern insights to guide you toward inner peace\, self-trust\, and vibrant living. Whether you’re seeking deeper self-awareness\, enhanced wellness\, or a supportive community\, this course is your gateway to true transformation. \nRegistration Details:Register now for free! Once you’ve signed up\, you’ll receive a follow-up email with all the details\, including directions on how to attend\, what to bring\, and how to prepare for this sacred journey. \nSpace is limited\, so secure your spot today and begin the path to your highest potential. We can’t wait to see you! \n \n\n\n\n\nWhat to Bring to Divine Resonance \nTo fully immerse yourself in this transformative journey bring an open\, excepting mind and possible the following: \n\nA Journal and Pen: Capture your insights\, reflections\, and breakthroughs.\nComfortable Clothing: Dress in layers for ease during meditations and sound healing.\nCushion or Pillow: Create a comfortable space for grounding and relaxation.\nWater Bottle: Stay hydrated as we raise your energy and vibration.\nBe on time with an Open Heart and Mind: Be grounded. Be ready to explore\, heal\, and expand into your true self.\n\nOptional extras: blankets\, eye masks for meditation\, or small percussion instruments like shakers or bells to enhance your experience.
URL:https://nuyounaples.com/event/divine-resonance/
LOCATION:nuYou\, 4482 Burton Road\, Naples\, FL\, 34104\, United States
ATTACH;FMTTYPE=image/jpeg:https://nuyounaples.com/wp-content/uploads/2024/11/f7707259f9db9e003166320f1f3a4659-2sku8U.tmp_.jpg
END:VEVENT
END:VCALENDAR