BEGIN:VCALENDAR
VERSION:2.0
PRODID:-//nuYou Naples - ECPv6.15.20//NONSGML v1.0//EN
CALSCALE:GREGORIAN
METHOD:PUBLISH
X-ORIGINAL-URL:https://nuyounaples.com
X-WR-CALDESC:Events for nuYou Naples
REFRESH-INTERVAL;VALUE=DURATION:PT1H
X-Robots-Tag:noindex
X-PUBLISHED-TTL:PT1H
BEGIN:VTIMEZONE
TZID:America/New_York
BEGIN:DAYLIGHT
TZOFFSETFROM:-0500
TZOFFSETTO:-0400
TZNAME:EDT
DTSTART:20230312T070000
END:DAYLIGHT
BEGIN:STANDARD
TZOFFSETFROM:-0400
TZOFFSETTO:-0500
TZNAME:EST
DTSTART:20231105T060000
END:STANDARD
BEGIN:DAYLIGHT
TZOFFSETFROM:-0500
TZOFFSETTO:-0400
TZNAME:EDT
DTSTART:20240310T070000
END:DAYLIGHT
BEGIN:STANDARD
TZOFFSETFROM:-0400
TZOFFSETTO:-0500
TZNAME:EST
DTSTART:20241103T060000
END:STANDARD
BEGIN:DAYLIGHT
TZOFFSETFROM:-0500
TZOFFSETTO:-0400
TZNAME:EDT
DTSTART:20250309T070000
END:DAYLIGHT
BEGIN:STANDARD
TZOFFSETFROM:-0400
TZOFFSETTO:-0500
TZNAME:EST
DTSTART:20251102T060000
END:STANDARD
BEGIN:DAYLIGHT
TZOFFSETFROM:-0500
TZOFFSETTO:-0400
TZNAME:EDT
DTSTART:20260308T070000
END:DAYLIGHT
BEGIN:STANDARD
TZOFFSETFROM:-0400
TZOFFSETTO:-0500
TZNAME:EST
DTSTART:20261101T060000
END:STANDARD
BEGIN:DAYLIGHT
TZOFFSETFROM:-0500
TZOFFSETTO:-0400
TZNAME:EDT
DTSTART:20270314T070000
END:DAYLIGHT
BEGIN:STANDARD
TZOFFSETFROM:-0400
TZOFFSETTO:-0500
TZNAME:EST
DTSTART:20271107T060000
END:STANDARD
END:VTIMEZONE
BEGIN:VEVENT
DTSTART;TZID=America/New_York:20260414T190000
DTEND;TZID=America/New_York:20260414T203000
DTSTAMP:20260423T132510
CREATED:20260410T173919Z
LAST-MODIFIED:20260410T180131Z
UID:10000333-1776193200-1776198600@nuyounaples.com
SUMMARY:LeActivation Online
DESCRIPTION:LeActivation | Live Zoom Experience\nJoin me for a live\, guided LeActivation\, a 90-minute experience designed to help you reset your nervous system\, release stored stress\, and reconnect to your natural state of clarity\, balance\, and vitality. \nThis is a gentle yet powerful practice that combines breathwork\, somatic movement\, and awareness to support your body in shifting out of stress and into a more regulated\, connected state. \nNo prior experience is needed. You simply arrive\, lie down\, and allow your body to respond. \n\nWhat You’ll Experience\nDuring this session\, you may notice: \n\nA deep sense of relaxation and grounding\nRelease of physical or emotional tension\nSubtle sensations such as warmth\, tingling\, or energy movement\nGreater clarity\, openness\, and connection\n\nEach experience is unique. Your body will guide the process in a way that feels natural and supportive for you. \n\nWhy This Works\nLeActivation works directly with your nervous system — the system responsible for how you respond to stress\, emotion\, and daily life. \nThrough breath and guided awareness\, your body begins to regulate\, allowing stored tension and patterns to gently release. \nThis is not about effort or performance.It’s about allowing your system to return to balance. \n\n🖥 How the Zoom Experience Works\nOnce you register\, you will receive: \n\nA confirmation email with your private Zoom link\nInstructions on how to prepare your space\nA reminder before the session begins\n\nYou can join from anywhere. Please plan to log in 5 minutes early so you can settle in before we begin. \n\nHow to Prepare\nTo receive the most from your session: \n\nFind a quiet\, comfortable space where you can lie down\nUse a yoga mat\, bed\, or soft surface\nWear comfortable clothing\nHave a blanket\, pillow\, or eye covering if desired\nHydrate throughout the day (pause 1 hour before session)\nAvoid heavy meals 2–3 hours prior\n\nHeadphones or a speaker are recommended for the best sound experience. \n\nAfter You Register\nYour Zoom link will be sent immediately after registration. \nIf you do not see it\, please check your spam or promotions folder. \nSpots are limited to maintain an intentional and connected experience. \n\nA Personal Note\nThis work is deeply meaningful to me. \nIf your body has been asking for a reset…If your mind feels full…Or if you simply need a space to reconnect… \nI would love to have you join me. \n— Michelle LEA \n\nParticipant Agreement & Media Release\nBy registering for and participating in this LeActivation session\, you acknowledge and agree to the following: \nAssumption of Responsibility\nYou understand that LeActivation is a somatic\, breathwork\, and wellness-based practice designed to support nervous system regulation and overall well-being. You voluntarily choose to participate and accept full responsibility for your physical\, emotional\, and mental experience during and after the session. \nNot Medical Advice\nYou acknowledge that this experience is not a substitute for medical\, psychological\, or therapeutic treatment. You agree to consult with a qualified healthcare provider if you have any concerns about your ability to participate. \nRelease of Liability\nYou hereby release and hold harmless Michelle LEA\, LeActivation\, and any affiliated entities from any and all claims\, liabilities\, damages\, or demands arising from your participation in this session. \nPersonal Awareness & Boundaries\nYou agree to honor your body\, move at your own pace\, and take responsibility for communicating or adjusting as needed during the session. \n\n🎥 Media & Recording Consent\nYou acknowledge that this session may be recorded\, photographed\, or used for educational and promotional purposes. \nBy participating\, you grant permission to Michelle LEA and LeActivation to use any recordings\, images\, or media that may include your presence\, voice\, or likeness for marketing\, promotional\, and educational use\, without compensation. \nIf you prefer not to be recorded\, you agree to keep your camera off and/or notify the host in advance. \n\nAgreement\nBy completing your registration\, you confirm that you have read\, understood\, and agree to these terms.
URL:https://nuyounaples.com/event/leactivationonline/
ATTACH;FMTTYPE=image/jpeg:https://nuyounaples.com/wp-content/uploads/2026/01/IMG_4423.jpeg
LOCATION:https://nuyounaples.com/event/leactivationonline/
END:VEVENT
BEGIN:VEVENT
DTSTART;TZID=America/New_York:20260310T190000
DTEND;TZID=America/New_York:20260310T200000
DTSTAMP:20260423T132510
CREATED:20251214T232727Z
LAST-MODIFIED:20260107T144125Z
UID:10000261-1773169200-1773172800@nuyounaples.com
SUMMARY:Inner Sanctum of nuYou
DESCRIPTION:Many people are spiritually hungry but exhausted by belief systems that ask them to follow\, perform\, or conform. As religion and traditional frameworks struggle to meet modern emotional and consciousness needs\, communities become more divided and individuals feel increasingly alone\, anxious\, and disconnected from purpose. Moment of Inner Sanctum is a simple\, consistent intervention: a monthly place to gather in truth\, regulate the nervous system\, restore inner connection\, and rebuild community through lived experience\, not dogma\, so people can walk back into their lives with clarity\, meaning\, and love.\nMoment of Inner Sanctum is a monthly\, donation-free online sanctuary where people come to remember what they already know. Rooted in a modern Gnostic approach\, this gathering guides participants into direct inner knowing through Michelle LEA’s LeActivation Method\, using breath\, embodiment\, and energetic attunement to quiet mental noise and awaken truth from within. Each session includes a short teaching\, a guided LeActivation experience\, and a closing integration circle to support real-life clarity\, connection\, and meaning. \nI’d love to invite you to come unleashed in life through Inner Truth\, a monthly online community where we connect in meaningful ways without judgment\, Michelle Lea
URL:https://nuyounaples.com/event/inner-sanctum-of-nuyou/2026-03-10/
LOCATION:Zoom
ATTACH;FMTTYPE=image/jpeg:https://nuyounaples.com/wp-content/uploads/2025/12/IMG_4175.jpeg
END:VEVENT
BEGIN:VEVENT
DTSTART;TZID=America/New_York:20260210T190000
DTEND;TZID=America/New_York:20260210T200000
DTSTAMP:20260423T132510
CREATED:20251214T232727Z
LAST-MODIFIED:20260107T144125Z
UID:10000290-1770750000-1770753600@nuyounaples.com
SUMMARY:Inner Sanctum of nuYou
DESCRIPTION:Many people are spiritually hungry but exhausted by belief systems that ask them to follow\, perform\, or conform. As religion and traditional frameworks struggle to meet modern emotional and consciousness needs\, communities become more divided and individuals feel increasingly alone\, anxious\, and disconnected from purpose. Moment of Inner Sanctum is a simple\, consistent intervention: a monthly place to gather in truth\, regulate the nervous system\, restore inner connection\, and rebuild community through lived experience\, not dogma\, so people can walk back into their lives with clarity\, meaning\, and love.\nMoment of Inner Sanctum is a monthly\, donation-free online sanctuary where people come to remember what they already know. Rooted in a modern Gnostic approach\, this gathering guides participants into direct inner knowing through Michelle LEA’s LeActivation Method\, using breath\, embodiment\, and energetic attunement to quiet mental noise and awaken truth from within. Each session includes a short teaching\, a guided LeActivation experience\, and a closing integration circle to support real-life clarity\, connection\, and meaning. \nI’d love to invite you to come unleashed in life through Inner Truth\, a monthly online community where we connect in meaningful ways without judgment\, Michelle Lea
URL:https://nuyounaples.com/event/inner-sanctum-of-nuyou/2026-02-10/
LOCATION:Zoom
ATTACH;FMTTYPE=image/jpeg:https://nuyounaples.com/wp-content/uploads/2025/12/IMG_4175.jpeg
END:VEVENT
BEGIN:VEVENT
DTSTART;TZID=America/New_York:20260113T190000
DTEND;TZID=America/New_York:20260113T200000
DTSTAMP:20260423T132510
CREATED:20251214T232727Z
LAST-MODIFIED:20260107T144125Z
UID:10000260-1768330800-1768334400@nuyounaples.com
SUMMARY:Inner Sanctum of nuYou
DESCRIPTION:Many people are spiritually hungry but exhausted by belief systems that ask them to follow\, perform\, or conform. As religion and traditional frameworks struggle to meet modern emotional and consciousness needs\, communities become more divided and individuals feel increasingly alone\, anxious\, and disconnected from purpose. Moment of Inner Sanctum is a simple\, consistent intervention: a monthly place to gather in truth\, regulate the nervous system\, restore inner connection\, and rebuild community through lived experience\, not dogma\, so people can walk back into their lives with clarity\, meaning\, and love.\nMoment of Inner Sanctum is a monthly\, donation-free online sanctuary where people come to remember what they already know. Rooted in a modern Gnostic approach\, this gathering guides participants into direct inner knowing through Michelle LEA’s LeActivation Method\, using breath\, embodiment\, and energetic attunement to quiet mental noise and awaken truth from within. Each session includes a short teaching\, a guided LeActivation experience\, and a closing integration circle to support real-life clarity\, connection\, and meaning. \nI’d love to invite you to come unleashed in life through Inner Truth\, a monthly online community where we connect in meaningful ways without judgment\, Michelle Lea
URL:https://nuyounaples.com/event/inner-sanctum-of-nuyou/2026-01-13/
LOCATION:Zoom
ATTACH;FMTTYPE=image/jpeg:https://nuyounaples.com/wp-content/uploads/2025/12/IMG_4175.jpeg
END:VEVENT
BEGIN:VEVENT
DTSTART;TZID=America/New_York:20251219T080000
DTEND;TZID=America/New_York:20251219T090000
DTSTAMP:20260423T132510
CREATED:20251201T172413Z
LAST-MODIFIED:20251201T172413Z
UID:10000252-1766131200-1766134800@nuyounaples.com
SUMMARY:Shakti Flow
DESCRIPTION:Shakti Flow — Free the Feminine\nFriday | 8–9 AM\nDoors close at 8am sharp — safe\, closed circle for full embodiment.\n Clear the week and claim your power. This guided embodiment class blends meditation\, sensual + primal flow\, and empowerment practices to clear low vibrational energies while awakening your Shakti energy to restore.\nDuring class\, Michelle LEA guides you through your chakras with journalling prompts\, inner reflection\,  movement\, helping you release stuck energy and open the full current of your Shakti flow.\nWhat to Expect\n\n\n45 min guided session where your movement leads the way into freedom and release. \n\n\n10 min Embodiment meditation\, trending feminine flow\, and empowerment rituals. \n\n\n5 min  circle of gratitude and sharing to express\, release\, and rise into your power. \n\n\n\nWhat to Bring\n\nWater\, journal or something to record notes with.\nComfortable clothing that allows you to move freely and embody your authentic\, divine self.\nPlease refrain from any frangrances.\n\n No choreography. No judgment. Just freedom\, release\, and radiance.
URL:https://nuyounaples.com/event/shakti-flow-10/
LOCATION:nuYou\, 4482 Burton Road\, Naples\, FL\, 34104\, United States
ATTACH;FMTTYPE=image/jpeg:https://nuyounaples.com/wp-content/uploads/2025/08/IMG_6984.jpeg
END:VEVENT
BEGIN:VEVENT
DTSTART;TZID=America/New_York:20251205T080000
DTEND;TZID=America/New_York:20251205T090000
DTSTAMP:20260423T132510
CREATED:20250927T195718Z
LAST-MODIFIED:20251201T142446Z
UID:10000246-1764921600-1764925200@nuyounaples.com
SUMMARY:Shakti Flow
DESCRIPTION:Shakti Flow — Free the Feminine\nFriday | 8–9 AM\nDoors close at 8am sharp — safe\, closed circle for full embodiment.\n Clear the week and claim your power. This guided embodiment class blends meditation\, sensual + primal flow\, and empowerment practices to clear low vibrational energies while awakening your Shakti energy to restore.\nDuring class\, Michelle LEA guides you through your chakras with journalling prompts\, inner reflection\,  movement\, helping you release stuck energy and open the full current of your Shakti flow.\nWhat to Expect\n\n\n45 min guided session where your movement leads the way into freedom and release. \n\n\n10 min Embodiment meditation\, trending feminine flow\, and empowerment rituals. \n\n\n5 min  circle of gratitude and sharing to express\, release\, and rise into your power. \n\n\n\nWhat to Bring\n\nWater\, journal or something to record notes with.\nComfortable clothing that allows you to move freely and embody your authentic\, divine self.\nPlease refrain from any frangrances.\n\n No choreography. No judgment. Just freedom\, release\, and radiance.
URL:https://nuyounaples.com/event/shakti-flow-11-14/
LOCATION:nuYou\, 4482 Burton Road\, Naples\, FL\, 34104\, United States
ATTACH;FMTTYPE=image/jpeg:https://nuyounaples.com/wp-content/uploads/2025/08/IMG_6984.jpeg
END:VEVENT
BEGIN:VEVENT
DTSTART;TZID=America/New_York:20250105T100000
DTEND;TZID=America/New_York:20250105T120000
DTSTAMP:20260423T132510
CREATED:20241127T035545Z
LAST-MODIFIED:20250104T164857Z
UID:10000108-1736071200-1736078400@nuyounaples.com
SUMMARY:Divine Resonance
DESCRIPTION:This isn’t just a workshop—it’s life-changing. Awaken your intuition\, restore your health\, and align your energy with the life you deserve!\n\n\n\n\nWelcome to Divine Resonance: A Seven-Week Journey to Inner Harmony and Empowerment \nAre you ready to awaken your intuition\, align your energy\, and step into the life you were meant to live? Divine Resonance is a transformative seven-week course designed to help you reconnect with your natural state of health\, balance\, and divine energy. \nJoin us for this powerful experience where we combine sound healing\, chakra activation\, meditation\, and modern insights to guide you toward inner peace\, self-trust\, and vibrant living. Whether you’re seeking deeper self-awareness\, enhanced wellness\, or a supportive community\, this course is your gateway to true transformation. \nRegistration Details:Register now for free! Once you’ve signed up\, you’ll receive a follow-up email with all the details\, including directions on how to attend\, what to bring\, and how to prepare for this sacred journey. \nSpace is limited\, so secure your spot today and begin the path to your highest potential. We can’t wait to see you! \n \n\n\nWhat to Bring to Divine Resonance \nTo fully immerse yourself in this transformative journey bring an open\, excepting mind and possible the following: \n\nA Journal and Pen: Capture your insights\, reflections\, and breakthroughs.\nComfortable Clothing: Dress in layers for ease during meditations and sound healing.\nCushion or Pillow: Create a comfortable space for grounding and relaxation.\nWater Bottle: Stay hydrated as we raise your energy and vibration.\nBe on time with an Open Heart and Mind: Be grounded. Be ready to explore\, heal\, and expand into your true self.\n\nOptional extras: blankets\, eye masks for meditation\, or small percussion instruments like shakers or bells to enhance your experience.
URL:https://nuyounaples.com/event/divine-resonance-2/
LOCATION:nuYou\, 4482 Burton Road\, Naples\, FL\, 34104\, United States
ATTACH;FMTTYPE=image/jpeg:https://nuyounaples.com/wp-content/uploads/2024/11/f7707259f9db9e003166320f1f3a4659-2sku8U.tmp_.jpg
END:VEVENT
BEGIN:VEVENT
DTSTART;TZID=America/New_York:20241109T100000
DTEND;TZID=America/New_York:20241109T120000
DTSTAMP:20260423T132510
CREATED:20241030T181640Z
LAST-MODIFIED:20241108T211130Z
UID:10000093-1731146400-1731153600@nuyounaples.com
SUMMARY:Life Energy Activation with Michelle LEA
DESCRIPTION:LEA is a powerful practice designed to awaken and elevate your vital life force energy\, enhancing overall well-being.\n\n\nThis is the Fall Series to Claim Your Sovereign Sensuality and Life Force Energy \nAs we transition into the fall season\, a time of turning inward and reflecting on our inner worlds\, it’s the perfect opportunity to deepen our connection to our sovereign sensuality and life force energy. This fall series of Life Energy Activation (LEA) classes is designed to help you harness\, alchemize\, and fully embody the vibrant energy within you\, empowering you to claim your true essence. \nIn this series\, we’ll explore the power of self-practices at home and how they can enhance your sensitivity to your life force energy. Self-practice is the foundation that allows you to cultivate a deeper connection to yourself\, fostering awareness and healing that can transform your life from the inside out. \nThe Importance of Self-Practice \nEngaging in regular self-practice is key to building your sensitivity to life force energy. By dedicating time each day to work with your energy\, you can: \n\nDevelop Greater Awareness: Notice the subtle shifts in your energy\, emotions\, and thoughts\, allowing you to address any imbalances before they manifest physically.\nEnhance Self-Healing: Empower yourself with the ability to clear blockages\, release negativity\, and restore balance\, all from the comfort of your home.\nDeepen Your Connection: Cultivate a profound relationship with your inner self\, understanding your needs\, desires\, and the wisdom that lies within.\n\nThe Role of LEA Classes \nWhile self-practice is vital\, attending LEA classes during this fall series will provide you with new tools\, guidance\, and a supportive community to further your journey. These classes will introduce techniques to amplify your life force energy and teach you how to integrate them into your daily practice. The collective energy in class settings also enhances the effectiveness of the work\, making your experiences even more transformative. \nHarnessing and Alchemizing Your Life Force Energy \nBy committing to both self-practice and LEA classes\, you can harness and alchemize your life force energy\, leading to: \n\nIncreased Vitality: Experience a renewed sense of energy and aliveness.\nEmotional Balance: Achieve inner peace by releasing pent-up emotions and clearing energetic blockages.\nMental Clarity: Quiet your mind\, reduce stress\, and improve focus.\nEnhanced Creativity: Unleash your creative potential by allowing your energy to flow freely.\nSpiritual Growth: Deepen your spiritual awareness and connection to your true essence.\n\nThis fall\, take the opportunity to reclaim your sovereign sensuality and life force energy. Start with consistent self-practice at home\, then join us in the upcoming LEA classes to learn even more tools and techniques to apply to your home practice. \nBy combining the power of self-practice with the insights and community support from LEA classes\, you can truly transform your life. Embrace your vitality\, unlock your creativity\, and step into your true power. \nReady to claim your energy? Join us for the fall series and let’s elevate our life force energy together!
URL:https://nuyounaples.com/event/life-energy-activation-with-michelle-lea-3/
LOCATION:NuYou Naples\, 4482 Burton Rd\, Naples\, FL\, 34104\, United States
ATTACH;FMTTYPE=image/jpeg:https://nuyounaples.com/wp-content/uploads/2024/10/29c78e7d9feab4b84d84b875d69fca7a-mFlljF.tmp_.jpg
END:VEVENT
BEGIN:VEVENT
DTSTART;TZID=America/New_York:20241105T190000
DTEND;TZID=America/New_York:20241105T223000
DTSTAMP:20260423T132510
CREATED:20241030T181639Z
LAST-MODIFIED:20241105T202137Z
UID:10000092-1730833200-1730845800@nuyounaples.com
SUMMARY:Life Energy Activation with Michelle LEA
DESCRIPTION:LEA is a powerful practice designed to awaken and elevate your vital life force energy\, enhancing overall well-being.\n\n\nThis is the Fall Series to Claim Your Sovereign Sensuality and Life Force Energy \nAs we transition into the fall season\, a time of turning inward and reflecting on our inner worlds\, it’s the perfect opportunity to deepen our connection to our sovereign sensuality and life force energy. This fall series of Life Energy Activation (LEA) classes is designed to help you harness\, alchemize\, and fully embody the vibrant energy within you\, empowering you to claim your true essence. \nIn this series\, we’ll explore the power of self-practices at home and how they can enhance your sensitivity to your life force energy. Self-practice is the foundation that allows you to cultivate a deeper connection to yourself\, fostering awareness and healing that can transform your life from the inside out. \nThe Importance of Self-Practice \nEngaging in regular self-practice is key to building your sensitivity to life force energy. By dedicating time each day to work with your energy\, you can: \n\nDevelop Greater Awareness: Notice the subtle shifts in your energy\, emotions\, and thoughts\, allowing you to address any imbalances before they manifest physically.\nEnhance Self-Healing: Empower yourself with the ability to clear blockages\, release negativity\, and restore balance\, all from the comfort of your home.\nDeepen Your Connection: Cultivate a profound relationship with your inner self\, understanding your needs\, desires\, and the wisdom that lies within.\n\nThe Role of LEA Classes \nWhile self-practice is vital\, attending LEA classes during this fall series will provide you with new tools\, guidance\, and a supportive community to further your journey. These classes will introduce techniques to amplify your life force energy and teach you how to integrate them into your daily practice. The collective energy in class settings also enhances the effectiveness of the work\, making your experiences even more transformative. \nHarnessing and Alchemizing Your Life Force Energy \nBy committing to both self-practice and LEA classes\, you can harness and alchemize your life force energy\, leading to: \n\nIncreased Vitality: Experience a renewed sense of energy and aliveness.\nEmotional Balance: Achieve inner peace by releasing pent-up emotions and clearing energetic blockages.\nMental Clarity: Quiet your mind\, reduce stress\, and improve focus.\nEnhanced Creativity: Unleash your creative potential by allowing your energy to flow freely.\nSpiritual Growth: Deepen your spiritual awareness and connection to your true essence.\n\nThis fall\, take the opportunity to reclaim your sovereign sensuality and life force energy. Start with consistent self-practice at home\, then join us in the upcoming LEA classes to learn even more tools and techniques to apply to your home practice. \nBy combining the power of self-practice with the insights and community support from LEA classes\, you can truly transform your life. Embrace your vitality\, unlock your creativity\, and step into your true power. \nReady to claim your energy? Join us for the fall series and let’s elevate our life force energy together!
URL:https://nuyounaples.com/event/life-energy-activation-with-michelle-lea/
LOCATION:NuYou Naples\, 4482 Burton Rd\, Naples\, FL\, 34104\, United States
ATTACH;FMTTYPE=image/jpeg:https://nuyounaples.com/wp-content/uploads/2024/10/76064cfa2f45fbeb5312aac44426c82b-eSwyWS.tmp_.jpg
END:VEVENT
BEGIN:VEVENT
DTSTART;TZID=America/New_York:20241105T190000
DTEND;TZID=America/New_York:20241105T223000
DTSTAMP:20260423T132510
CREATED:20241030T181639Z
LAST-MODIFIED:20241030T181639Z
UID:10000100-1730833200-1730845800@nuyounaples.com
SUMMARY:Life Energy Activation with Michelle LEA
DESCRIPTION:LEA is a powerful practice designed to awaken and elevate your vital life force energy\, enhancing overall well-being.\n\n\nThis is the Fall Series to Claim Your Sovereign Sensuality and Life Force Energy \nAs we transition into the fall season\, a time of turning inward and reflecting on our inner worlds\, it’s the perfect opportunity to deepen our connection to our sovereign sensuality and life force energy. This fall series of Life Energy Activation (LEA) classes is designed to help you harness\, alchemize\, and fully embody the vibrant energy within you\, empowering you to claim your true essence. \nIn this series\, we’ll explore the power of self-practices at home and how they can enhance your sensitivity to your life force energy. Self-practice is the foundation that allows you to cultivate a deeper connection to yourself\, fostering awareness and healing that can transform your life from the inside out. \nThe Importance of Self-Practice \nEngaging in regular self-practice is key to building your sensitivity to life force energy. By dedicating time each day to work with your energy\, you can: \n\nDevelop Greater Awareness: Notice the subtle shifts in your energy\, emotions\, and thoughts\, allowing you to address any imbalances before they manifest physically.\nEnhance Self-Healing: Empower yourself with the ability to clear blockages\, release negativity\, and restore balance\, all from the comfort of your home.\nDeepen Your Connection: Cultivate a profound relationship with your inner self\, understanding your needs\, desires\, and the wisdom that lies within.\n\nThe Role of LEA Classes \nWhile self-practice is vital\, attending LEA classes during this fall series will provide you with new tools\, guidance\, and a supportive community to further your journey. These classes will introduce techniques to amplify your life force energy and teach you how to integrate them into your daily practice. The collective energy in class settings also enhances the effectiveness of the work\, making your experiences even more transformative. \nHarnessing and Alchemizing Your Life Force Energy \nBy committing to both self-practice and LEA classes\, you can harness and alchemize your life force energy\, leading to: \n\nIncreased Vitality: Experience a renewed sense of energy and aliveness.\nEmotional Balance: Achieve inner peace by releasing pent-up emotions and clearing energetic blockages.\nMental Clarity: Quiet your mind\, reduce stress\, and improve focus.\nEnhanced Creativity: Unleash your creative potential by allowing your energy to flow freely.\nSpiritual Growth: Deepen your spiritual awareness and connection to your true essence.\n\nThis fall\, take the opportunity to reclaim your sovereign sensuality and life force energy. Start with consistent self-practice at home\, then join us in the upcoming LEA classes to learn even more tools and techniques to apply to your home practice. \nBy combining the power of self-practice with the insights and community support from LEA classes\, you can truly transform your life. Embrace your vitality\, unlock your creativity\, and step into your true power. \nReady to claim your energy? Join us for the fall series and let’s elevate our life force energy together!
URL:https://nuyounaples.com/event/life-energy-activation-with-michelle-lea-2/
LOCATION:NuYou Naples\, 4482 Burton Rd\, Naples\, FL\, 34104\, United States
ATTACH;FMTTYPE=image/jpeg:https://nuyounaples.com/wp-content/uploads/2024/10/76064cfa2f45fbeb5312aac44426c82b-eSwyWS.tmp_.jpg
END:VEVENT
END:VCALENDAR