BEGIN:VCALENDAR
VERSION:2.0
PRODID:-//nuYou Naples - ECPv6.15.20//NONSGML v1.0//EN
CALSCALE:GREGORIAN
METHOD:PUBLISH
X-ORIGINAL-URL:https://nuyounaples.com
X-WR-CALDESC:Events for nuYou Naples
REFRESH-INTERVAL;VALUE=DURATION:PT1H
X-Robots-Tag:noindex
X-PUBLISHED-TTL:PT1H
BEGIN:VTIMEZONE
TZID:America/New_York
BEGIN:DAYLIGHT
TZOFFSETFROM:-0500
TZOFFSETTO:-0400
TZNAME:EDT
DTSTART:20230312T070000
END:DAYLIGHT
BEGIN:STANDARD
TZOFFSETFROM:-0400
TZOFFSETTO:-0500
TZNAME:EST
DTSTART:20231105T060000
END:STANDARD
BEGIN:DAYLIGHT
TZOFFSETFROM:-0500
TZOFFSETTO:-0400
TZNAME:EDT
DTSTART:20240310T070000
END:DAYLIGHT
BEGIN:STANDARD
TZOFFSETFROM:-0400
TZOFFSETTO:-0500
TZNAME:EST
DTSTART:20241103T060000
END:STANDARD
BEGIN:DAYLIGHT
TZOFFSETFROM:-0500
TZOFFSETTO:-0400
TZNAME:EDT
DTSTART:20250309T070000
END:DAYLIGHT
BEGIN:STANDARD
TZOFFSETFROM:-0400
TZOFFSETTO:-0500
TZNAME:EST
DTSTART:20251102T060000
END:STANDARD
END:VTIMEZONE
BEGIN:VEVENT
DTSTART;TZID=America/New_York:20241123T150000
DTEND;TZID=America/New_York:20241123T190000
DTSTAMP:20260423T192523
CREATED:20241031T182634Z
LAST-MODIFIED:20241123T030202Z
UID:10000102-1732374000-1732388400@nuyounaples.com
SUMMARY:Decadent Sunsets
DESCRIPTION:As the Sun Sets\, Awaken Within: A Journey with Ceremonial Cacao and Sacred Mushrooms\n\n\nCombining ceremonial cacao with mushrooms for a heightened spiritual experience has deep roots in indigenous Mesoamerican traditions\, particularly among the Mayan and Aztec tribes. For centuries\, these cultures revered both cacao and sacred mushrooms as powerful\, using them together in rituals to deepen connection with the spiritual realm and commune with nature’s energies. Cacao\, considered the “food of the gods” by the Aztecs\, was often prepared ceremonially to open the heart\, boost energy\, and ground participants\, setting a nurturing foundation for the journey. Mushrooms\, meanwhile\, were known as teonanácatl\, or “flesh of the gods\,” by the Aztecs and were used by shamans to access higher consciousness\, receive divine messages\, and heal emotional or spiritual wounds. \nThe synergy of cacao and mushrooms was believed to amplify spiritual insights\, emotional release\, and visionary experiences\, creating a harmonious and balanced state conducive to healing. This ancient combination provided participants with a sense of connection to their ancestors\, the land\, and the cosmos\, supporting deep reverence and clarity. Today\, combining ceremonial cacao with mushrooms honors these indigenous practices\, inviting a journey that blends ancient wisdom with modern intentions for mindfulness\, healing\, and spiritual growth. \n \nCeremonial Cacao Benefits: \n\nBoosts Mood and Reduces Stress: Cacao contains anandamide (the “bliss molecule”) and serotonin precursors\, helping to elevate mood\, promote relaxation\, and reduce anxiety.\nIncreases Focus and Mental Clarity: Theobromine\, found in cacao\, provides a gentle energy boost without the jitters of caffeine\, enhancing focus and clarity.\nHeart Health: Rich in antioxidants like flavonoids\, cacao supports cardiovascular health by improving blood flow\, lowering blood pressure\, and reducing inflammation.\nSupports Emotional Well-being: Known as a heart-opener\, ceremonial cacao fosters emotional release\, empathy\, and connection\, making it beneficial for mental health.\nHigh in Essential Nutrients: Cacao is packed with magnesium\, iron\, calcium\, and B vitamins\, all of which support energy production and brain function.\n\nMushroom Benefits such as Lions Maine: \n\nEnhances Cognitive Function: Certain mushrooms\, such as lion’s mane\, are known for promoting neurogenesis\, potentially improving memory\, focus\, and overall brain health.\nSupports Immune Health: Medicinal mushrooms like reishi and chaga contain beta-glucans\, which strengthen the immune system and help fight infections.\nReduces Inflammation and Oxidative Stress: Many mushrooms are high in antioxidants\, which protect cells from damage and lower inflammation\, supporting overall wellness.\nPromotes Emotional Healing and Clarity: For those used ceremonially\, mushrooms help reduce stress and anxiety\, fostering introspection\, emotional release\, and enhanced mental clarity.\nSupports Gut Health: Some mushrooms act as prebiotics\, nourishing gut bacteria and promoting digestive health\, which is essential for overall well-being.\n\n \nTogether\, ceremonial cacao and mushrooms offer a holistic health experience\, enhancing physical\, mental\, and emotional wellness in a balanced\, nourishing way. \nPlease arrive early to set up settle down.  \n3-3:30pm Opening Circle with 1st serving \n3:30-4 Creating Ocean Altars \n4:00-4:30 Breath work and activation \n4:30-5 Song Circle \n5-5:20 2nd serving \n5:20-6pm Sound Healing Sunset (5:35pm) \n6-7pm Connection and closing \nWhat to Bring: \nComfortable\, layered clothing for meditation and movement \nBeach blankets and pillows \nWater and Cacao Cup \nJournal and pen for reflection \nPersonal items for the altar (crystals\, photos\, etc.) \nOpen heart and mind for connection and transformation ❤️
URL:https://nuyounaples.com/event/decadent-sunsets/
LOCATION:18th Avenue South\, 18th Avenue South\, Naples\, FL\, 34102\, United States
ATTACH;FMTTYPE=image/jpeg:https://nuyounaples.com/wp-content/uploads/2024/10/89fa10027cf214c69c187a8f83ebf61b-M2CszI.tmp_.jpg
END:VEVENT
BEGIN:VEVENT
DTSTART;TZID=America/New_York:20241119T190000
DTEND;TZID=America/New_York:20241119T210000
DTSTAMP:20260423T192523
CREATED:20241030T181641Z
LAST-MODIFIED:20241119T023808Z
UID:10000094-1732042800-1732050000@nuyounaples.com
SUMMARY:Life Energy Activation with Michelle LEA
DESCRIPTION:LEA is a powerful practice designed to awaken and elevate your vital life force energy\, enhancing overall well-being.\n\n\nThis is the Fall Series to Claim Your Sovereign Sensuality and Life Force Energy \nAs we transition into the fall season\, a time of turning inward and reflecting on our inner worlds\, it’s the perfect opportunity to deepen our connection to our sovereign sensuality and life force energy. This fall series of Life Energy Activation (LEA) classes is designed to help you harness\, alchemize\, and fully embody the vibrant energy within you\, empowering you to claim your true essence. \nIn this series\, we’ll explore the power of self-practices at home and how they can enhance your sensitivity to your life force energy. Self-practice is the foundation that allows you to cultivate a deeper connection to yourself\, fostering awareness and healing that can transform your life from the inside out. \nThe Importance of Self-Practice \nEngaging in regular self-practice is key to building your sensitivity to life force energy. By dedicating time each day to work with your energy\, you can: \n\nDevelop Greater Awareness: Notice the subtle shifts in your energy\, emotions\, and thoughts\, allowing you to address any imbalances before they manifest physically.\nEnhance Self-Healing: Empower yourself with the ability to clear blockages\, release negativity\, and restore balance\, all from the comfort of your home.\nDeepen Your Connection: Cultivate a profound relationship with your inner self\, understanding your needs\, desires\, and the wisdom that lies within.\n\nThe Role of LEA Classes \nWhile self-practice is vital\, attending LEA classes during this fall series will provide you with new tools\, guidance\, and a supportive community to further your journey. These classes will introduce techniques to amplify your life force energy and teach you how to integrate them into your daily practice. The collective energy in class settings also enhances the effectiveness of the work\, making your experiences even more transformative. \nHarnessing and Alchemizing Your Life Force Energy \nBy committing to both self-practice and LEA classes\, you can harness and alchemize your life force energy\, leading to: \n\nIncreased Vitality: Experience a renewed sense of energy and aliveness.\nEmotional Balance: Achieve inner peace by releasing pent-up emotions and clearing energetic blockages.\nMental Clarity: Quiet your mind\, reduce stress\, and improve focus.\nEnhanced Creativity: Unleash your creative potential by allowing your energy to flow freely.\nSpiritual Growth: Deepen your spiritual awareness and connection to your true essence.\n\nThis fall\, take the opportunity to reclaim your sovereign sensuality and life force energy. Start with consistent self-practice at home\, then join us in the upcoming LEA classes to learn even more tools and techniques to apply to your home practice. \nBy combining the power of self-practice with the insights and community support from LEA classes\, you can truly transform your life. Embrace your vitality\, unlock your creativity\, and step into your true power. \nReady to claim your energy? Join us for the fall series and let’s elevate our life force energy together!
URL:https://nuyounaples.com/event/life-energy-activation-with-michelle-lea-4/
LOCATION:NuYou Naples\, 4482 Burton Rd\, Naples\, FL\, 34104\, United States
ATTACH;FMTTYPE=image/jpeg:https://nuyounaples.com/wp-content/uploads/2024/10/6e13658ab7d2e1da15d520e04564e303-gXb9mo.tmp_.jpg
END:VEVENT
BEGIN:VEVENT
DTSTART;TZID=America/New_York:20241117T170000
DTEND;TZID=America/New_York:20241117T190000
DTSTAMP:20260423T192523
CREATED:20241111T230447Z
LAST-MODIFIED:20241117T022713Z
UID:10000104-1731862800-1731870000@nuyounaples.com
SUMMARY:Beach Beats
DESCRIPTION:Beach Beats is a free sunset gathering at Naples Beach with drumming\, singing\, and rhythm to connect with community consciousness.\n\n\nJoin us at sunset for Beach Beats\, a free community gathering on Naples Beach\, where rhythm and connection come alive! Feel the sand between your toes\, the breeze on your skin\, and let yourself be immersed in the sounds of drums\, shakers\, rattles\, and voices coming together in harmony. Bring your instrument of choice\, your voice\, or just an open heart\, and experience a soulful evening of music and mindfulness as we celebrate connection\, consciousness\, and the beauty of being together under the setting sun. All are welcome—let’s create something unforgettable!  Location has changed to 7th ave N.  Arrive early\, stay late!
URL:https://nuyounaples.com/event/beach-beats/
LOCATION:7th Avenue North\, 7th Avenue North\, Naples\, FL\, 34102\, United States
ATTACH;FMTTYPE=image/jpeg:https://nuyounaples.com/wp-content/uploads/2024/11/8a15b957d7a2725fbd6aa5634e4518b2-KSv9tM.tmp_.jpg
END:VEVENT
BEGIN:VEVENT
DTSTART;TZID=America/New_York:20241115T190000
DTEND;TZID=America/New_York:20241115T220000
DTSTAMP:20260423T192523
CREATED:20241031T182632Z
LAST-MODIFIED:20241116T022118Z
UID:10000101-1731697200-1731708000@nuyounaples.com
SUMMARY:Full Beaver Supermoon Celebration With Michelle Lea & Danielle
DESCRIPTION:Practices under the Beaver Moon helps us create the reserves—both emotional and physical—needed to navigate the challenges of winter.\n\n\n \nNovember’s Beaver Moon spiritual meaning symbolizes the beaver’s ability to be the architects and creators of their own life. This is something we can all learn lessons from! Use the Beaver Moon as a final motivating push before Winter to create action and transformation in your life. \nFigure out what dams you need to create to stop negative energy from draining your spiritual success. Identify and mend the cracks in your spiritual foundation to create stability and contentment. Remember\, beavers stay active all Winter long\, even when ice covers the water’s surface. \nSelf-Care Rituals: The supermoon magnifies the benefits of engaging in self-care\, helping you focus on your emotional and physical well-being\, moon bathing with full body exfoliation of sandalwood\, rose\, yogurt and honey combined with love and laughter as we embrace all of our ourselves. \nCrafting with your Spirit Animal: Create warmth and beauty in your surroundings with creative crafting from nature and inspired by your wild spirit! We will be creating a ground altar with all of the elements of our natural surroundings while uncovering your connection with your unique animal guide. We will assist you with which you are\, if you don’t already know. \nJournaling Under the Supermoon: Reflecting during the supermoon deepens your inner-connection and emotional processing\, aiding in building resilience and clarity. \nGuided Moon Rituals & Energy Clearing: Blue lotus tea of tinctures aid to Release what no longer serves you and align with the power of the Beaver Moon for inner strength and winter preparation. \nSound Healing & Meditation: Immerse yourself in sound healing vibrations and meditation to connect with the moon’s energy and ground your intentions for the season ahead. Experience Life Energy Activation and release stored emotions. \nBeaver Moon Spiritual Intentions \n\nProtection\nRelease\nCleansing\nEmpathy\nTransformation\nPreparation\n\nColors \n\nMidnight blue\nDark purple\nSage green\nGrey\n\nJournal ideas \n\nWhat’s a recent situation or emotion that feels like a dam blocking your progress? How can you work to release or navigate this blockage?\nWrite down any emotions\, thoughts\, or physical things you’re ready to release during this Beaver Moon (maybe you can use them in a Beaver Moon Release Ritual.hint\, hint).\nExplore the ideas of what practices or rituals make you feel spiritually strong and resilient?\nWho would you be if everything were taken away from you (items\, home\, career\, titles\, etc.)?\nHow is your spiritual path inspired by Nature? How can you\n\n \nWhat to Bring: \nComfortable clothing for meditation and movement \nJournal and pen for reflection \nPersonal items for the altar (crystals\, photos\, etc.) \nOpen heart and mind for connection and transformation ❤️ \n \nTicket Info: $188 per person \nLimited spaces available – reserve your spot now. \nWe look foward to connecting with each of you very soon!
URL:https://nuyounaples.com/event/full-beaver-supermoon-celebration-with-michelle-lea-danielle/
ATTACH;FMTTYPE=image/jpeg:https://nuyounaples.com/wp-content/uploads/2024/10/4e824279de66a57a9c71980470b477c5-LAKbya.tmp_.jpg
END:VEVENT
END:VCALENDAR