BEGIN:VCALENDAR
VERSION:2.0
PRODID:-//nuYou Naples - ECPv6.15.20//NONSGML v1.0//EN
CALSCALE:GREGORIAN
METHOD:PUBLISH
X-ORIGINAL-URL:https://nuyounaples.com
X-WR-CALDESC:Events for nuYou Naples
REFRESH-INTERVAL;VALUE=DURATION:PT1H
X-Robots-Tag:noindex
X-PUBLISHED-TTL:PT1H
BEGIN:VTIMEZONE
TZID:America/New_York
BEGIN:DAYLIGHT
TZOFFSETFROM:-0500
TZOFFSETTO:-0400
TZNAME:EDT
DTSTART:20250309T070000
END:DAYLIGHT
BEGIN:STANDARD
TZOFFSETFROM:-0400
TZOFFSETTO:-0500
TZNAME:EST
DTSTART:20251102T060000
END:STANDARD
BEGIN:DAYLIGHT
TZOFFSETFROM:-0500
TZOFFSETTO:-0400
TZNAME:EDT
DTSTART:20260308T070000
END:DAYLIGHT
BEGIN:STANDARD
TZOFFSETFROM:-0400
TZOFFSETTO:-0500
TZNAME:EST
DTSTART:20261101T060000
END:STANDARD
BEGIN:DAYLIGHT
TZOFFSETFROM:-0500
TZOFFSETTO:-0400
TZNAME:EDT
DTSTART:20270314T070000
END:DAYLIGHT
BEGIN:STANDARD
TZOFFSETFROM:-0400
TZOFFSETTO:-0500
TZNAME:EST
DTSTART:20271107T060000
END:STANDARD
END:VTIMEZONE
BEGIN:VEVENT
DTSTART;TZID=America/New_York:20260428T190000
DTEND;TZID=America/New_York:20260428T203000
DTSTAMP:20260423T132512
CREATED:20260410T203406Z
LAST-MODIFIED:20260410T205703Z
UID:10000334-1777402800-1777408200@nuyounaples.com
SUMMARY:LeActivation Online 4/28
DESCRIPTION:LeActivation | Live Zoom Experience\nJoin me for a live\, guided LeActivation\, a 90-minute experience designed to help you reset your nervous system\, release stored stress\, and reconnect to your natural state of clarity\, balance\, and vitality. \nThis is a gentle yet powerful practice that combines breathwork\, somatic movement\, and awareness to support your body in shifting out of stress and into a more regulated\, connected state. \nNo prior experience is needed. You simply arrive\, lie down\, and allow your body to respond. \n\nWhat You’ll Experience\nDuring this session\, you may notice: \n\nA deep sense of relaxation and grounding\nRelease of physical or emotional tension\nSubtle sensations such as warmth\, tingling\, or energy movement\nGreater clarity\, openness\, and connection\n\nEach experience is unique. Your body will guide the process in a way that feels natural and supportive for you. \n\nWhy This Works\nLeActivation works directly with your nervous system — the system responsible for how you respond to stress\, emotion\, and daily life. \nThrough breath and guided awareness\, your body begins to regulate\, allowing stored tension and patterns to gently release. \nThis is not about effort or performance.It’s about allowing your system to return to balance. \n\n🖥 How the Zoom Experience Works\nOnce you register\, you will receive: \n\nA confirmation email with your private Zoom link\nInstructions on how to prepare your space\nA reminder before the session begins\n\nYou can join from anywhere. Please plan to log in 5 minutes early so you can settle in before we begin. \n\nHow to Prepare\nTo receive the most from your session: \n\nFind a quiet\, comfortable space where you can lie down\nUse a yoga mat\, bed\, or soft surface\nWear comfortable clothing\nHave a blanket\, pillow\, or eye covering if desired\nHydrate throughout the day (pause 1 hour before session)\nAvoid heavy meals 2–3 hours prior\n\nHeadphones or a speaker are recommended for the best sound experience. \n\nAfter You Register\nYour Zoom link will be sent immediately after registration. \nIf you do not see it\, please check your spam or promotions folder. \nSpots are limited to maintain an intentional and connected experience. \n\nA Personal Note\nThis work is deeply meaningful to me. \nIf your body has been asking for a reset…If your mind feels full…Or if you simply need a space to reconnect… \nI would love to have you join me. \n— Michelle LEA \n\nParticipant Agreement & Media Release\nBy registering for and participating in this LeActivation session\, you acknowledge and agree to the following: \nAssumption of Responsibility\nYou understand that LeActivation is a somatic\, breathwork\, and wellness-based practice designed to support nervous system regulation and overall well-being. You voluntarily choose to participate and accept full responsibility for your physical\, emotional\, and mental experience during and after the session. \nNot Medical Advice\nYou acknowledge that this experience is not a substitute for medical\, psychological\, or therapeutic treatment. You agree to consult with a qualified healthcare provider if you have any concerns about your ability to participate. \nRelease of Liability\nYou hereby release and hold harmless Michelle LEA\, LeActivation\, and any affiliated entities from any and all claims\, liabilities\, damages\, or demands arising from your participation in this session. \nPersonal Awareness & Boundaries\nYou agree to honor your body\, move at your own pace\, and take responsibility for communicating or adjusting as needed during the session. \n\n🎥 Media & Recording Consent\nYou acknowledge that this session may be recorded\, photographed\, or used for educational and promotional purposes. \nBy participating\, you grant permission to Michelle LEA and LeActivation to use any recordings\, images\, or media that may include your presence\, voice\, or likeness for marketing\, promotional\, and educational use\, without compensation. \nIf you prefer not to be recorded\, you agree to keep your camera off and/or notify the host in advance. \n\nAgreement\nBy completing your registration\, you confirm that you have read\, understood\, and agree to these terms.
URL:https://nuyounaples.com/event/leactivation-online-4-28/
LOCATION:Zoom
ATTACH;FMTTYPE=image/jpeg:https://nuyounaples.com/wp-content/uploads/2026/01/IMG_4423.jpeg
END:VEVENT
END:VCALENDAR