BEGIN:VCALENDAR
VERSION:2.0
PRODID:-//nuYou Naples - ECPv6.15.20//NONSGML v1.0//EN
CALSCALE:GREGORIAN
METHOD:PUBLISH
X-ORIGINAL-URL:https://nuyounaples.com
X-WR-CALDESC:Events for nuYou Naples
REFRESH-INTERVAL;VALUE=DURATION:PT1H
X-Robots-Tag:noindex
X-PUBLISHED-TTL:PT1H
BEGIN:VTIMEZONE
TZID:America/New_York
BEGIN:DAYLIGHT
TZOFFSETFROM:-0500
TZOFFSETTO:-0400
TZNAME:EDT
DTSTART:20240310T070000
END:DAYLIGHT
BEGIN:STANDARD
TZOFFSETFROM:-0400
TZOFFSETTO:-0500
TZNAME:EST
DTSTART:20241103T060000
END:STANDARD
BEGIN:DAYLIGHT
TZOFFSETFROM:-0500
TZOFFSETTO:-0400
TZNAME:EDT
DTSTART:20250309T070000
END:DAYLIGHT
BEGIN:STANDARD
TZOFFSETFROM:-0400
TZOFFSETTO:-0500
TZNAME:EST
DTSTART:20251102T060000
END:STANDARD
BEGIN:DAYLIGHT
TZOFFSETFROM:-0500
TZOFFSETTO:-0400
TZNAME:EDT
DTSTART:20260308T070000
END:DAYLIGHT
BEGIN:STANDARD
TZOFFSETFROM:-0400
TZOFFSETTO:-0500
TZNAME:EST
DTSTART:20261101T060000
END:STANDARD
END:VTIMEZONE
BEGIN:VEVENT
DTSTART;TZID=America/New_York:20250914T160000
DTEND;TZID=America/New_York:20250914T173000
DTSTAMP:20260424T040429
CREATED:20250824T153411Z
LAST-MODIFIED:20250828T203505Z
UID:10000236-1757865600-1757871000@nuyounaples.com
SUMMARY:LeActivation Technique Class 9/14
DESCRIPTION:
URL:https://nuyounaples.com/event/leactivation-technique-class-9-14/
LOCATION:nuYou\, 4482 Burton Road\, Naples\, FL\, 34104\, United States
ATTACH;FMTTYPE=image/jpeg:https://nuyounaples.com/wp-content/uploads/2025/06/leactivation.jpg
END:VEVENT
BEGIN:VEVENT
DTSTART;TZID=America/New_York:20250916T063000
DTEND;TZID=America/New_York:20250916T073000
DTSTAMP:20260424T040429
CREATED:20250819T163800Z
LAST-MODIFIED:20250819T234844Z
UID:10000221-1758004200-1758007800@nuyounaples.com
SUMMARY:Shakti Flow
DESCRIPTION:Shakti Flow — Free the Feminine\nTuesdays & Thursdays | 6:30–7:30 AM\nDoors close at 6:30 sharp — safe\, closed circle for full embodiment.\n Start your day in feminine power. This guided embodiment class blends meditation\, sensual + primal flow\, and empowerment practices to awaken your Shakti energy.\nDuring class\, Michelle LEA guides you through your chakras with movement\, helping you release stuck energy and open the full current of your Shakti flow.\nWhat to Expect\n\n\n45 min guided session where your movement leads the way into freedom and release. \n\n\n10 min Embodiment meditation\, trending feminine flow\, and empowerment rituals. \n\n\n5 min  circle of gratitude and sharing to express\, release\, and rise into your power. \n\n\n\nWhat to Bring\n\nWater\nComfortable clothing that allows you to move freely and embody your authentic\, divine self.\n\n No choreography. No judgment. Just freedom\, release\, and radiance.
URL:https://nuyounaples.com/event/shakti-flow-4/
LOCATION:nuYou\, 4482 Burton Road\, Naples\, FL\, 34104\, United States
ATTACH;FMTTYPE=image/jpeg:https://nuyounaples.com/wp-content/uploads/2025/08/image0-2.jpeg
END:VEVENT
END:VCALENDAR