BEGIN:VCALENDAR
VERSION:2.0
PRODID:-//nuYou Naples - ECPv6.15.20//NONSGML v1.0//EN
CALSCALE:GREGORIAN
METHOD:PUBLISH
X-ORIGINAL-URL:https://nuyounaples.com
X-WR-CALDESC:Events for nuYou Naples
REFRESH-INTERVAL;VALUE=DURATION:PT1H
X-Robots-Tag:noindex
X-PUBLISHED-TTL:PT1H
BEGIN:VTIMEZONE
TZID:America/New_York
BEGIN:DAYLIGHT
TZOFFSETFROM:-0500
TZOFFSETTO:-0400
TZNAME:EDT
DTSTART:20240310T070000
END:DAYLIGHT
BEGIN:STANDARD
TZOFFSETFROM:-0400
TZOFFSETTO:-0500
TZNAME:EST
DTSTART:20241103T060000
END:STANDARD
BEGIN:DAYLIGHT
TZOFFSETFROM:-0500
TZOFFSETTO:-0400
TZNAME:EDT
DTSTART:20250309T070000
END:DAYLIGHT
BEGIN:STANDARD
TZOFFSETFROM:-0400
TZOFFSETTO:-0500
TZNAME:EST
DTSTART:20251102T060000
END:STANDARD
BEGIN:DAYLIGHT
TZOFFSETFROM:-0500
TZOFFSETTO:-0400
TZNAME:EDT
DTSTART:20260308T070000
END:DAYLIGHT
BEGIN:STANDARD
TZOFFSETFROM:-0400
TZOFFSETTO:-0500
TZNAME:EST
DTSTART:20261101T060000
END:STANDARD
END:VTIMEZONE
BEGIN:VEVENT
DTSTART;TZID=America/New_York:20250907T183000
DTEND;TZID=America/New_York:20250907T203000
DTSTAMP:20260424T040329
CREATED:20250819T153736Z
LAST-MODIFIED:20250905T143909Z
UID:10000217-1757269800-1757277000@nuyounaples.com
SUMMARY:Full Moon White Tantra Dinner Experience
DESCRIPTION:Full Moon White Tantra Dinner Experience \nCurated Dinner Engaging all Chakras \nSound Bath & Sensory Circle \nFull Moon Releasing – Fire Ceremony \nSep 7 | 6:30–8:30 \n$144 – Gifts Included \n4482 Burton Rd. Naples\, FL
URL:https://nuyounaples.com/event/full-moon-white-tantra-dinner-experience/
LOCATION:nuYou\, 4482 Burton Road\, Naples\, FL\, 34104\, United States
ATTACH;FMTTYPE=image/jpeg:https://nuyounaples.com/wp-content/uploads/2025/08/IMG_6684.jpeg
END:VEVENT
BEGIN:VEVENT
DTSTART;TZID=America/New_York:20250909T063000
DTEND;TZID=America/New_York:20250909T073000
DTSTAMP:20260424T040329
CREATED:20250819T163605Z
LAST-MODIFIED:20250819T232847Z
UID:10000220-1757399400-1757403000@nuyounaples.com
SUMMARY:Shakti Flow
DESCRIPTION:Shakti Flow — Free the Feminine\nTuesdays & Thursdays | 6:30–7:30 AM\nDoors close at 6:30 sharp — safe\, closed circle for full embodiment.\n Start your day in feminine power. This guided embodiment class blends meditation\, sensual + primal flow\, and empowerment practices to awaken your Shakti energy.\nDuring class\, Michelle LEA guides you through your chakras with movement\, helping you release stuck energy and open the full current of your Shakti flow.\nWhat to Expect\n\n\n45 min guided session where your movement leads the way into freedom and release. \n\n\n10 min Embodiment meditation\, trending feminine flow\, and empowerment rituals. \n\n\n5 min  circle of gratitude and sharing to express\, release\, and rise into your power. \n\n\n\nWhat to Bring\n\nWater\nComfortable clothing that allows you to move freely and embody your authentic\, divine self.\n\n No choreography. No judgment. Just freedom\, release\, and radiance.
URL:https://nuyounaples.com/event/shakti-flow-3/
LOCATION:nuYou\, 4482 Burton Road\, Naples\, FL\, 34104\, United States
ATTACH;FMTTYPE=image/jpeg:https://nuyounaples.com/wp-content/uploads/2025/08/image0-2.jpeg
END:VEVENT
BEGIN:VEVENT
DTSTART;TZID=America/New_York:20250911T063000
DTEND;TZID=America/New_York:20250911T073000
DTSTAMP:20260424T040329
CREATED:20250819T170203Z
LAST-MODIFIED:20250819T234736Z
UID:10000228-1757572200-1757575800@nuyounaples.com
SUMMARY:Shakti Flow
DESCRIPTION:Shakti Flow — Free the Feminine\nTuesdays & Thursdays | 6:30–7:30 AM\nDoors close at 6:30 sharp — safe\, closed circle for full embodiment.\n Start your day in feminine power. This guided embodiment class blends meditation\, sensual + primal flow\, and empowerment practices to awaken your Shakti energy.\nDuring class\, Michelle LEA guides you through your chakras with movement\, helping you release stuck energy and open the full current of your Shakti flow.\nWhat to Expect\n\n\n45 min guided session where your movement leads the way into freedom and release. \n\n\n10 min Embodiment meditation\, trending feminine flow\, and empowerment rituals. \n\n\n5 min  circle of gratitude and sharing to express\, release\, and rise into your power. \n\n\n\nWhat to Bring\n\nWater\nComfortable clothing that allows you to move freely and embody your authentic\, divine self.\n\n No choreography. No judgment. Just freedom\, release\, and radiance.
URL:https://nuyounaples.com/event/shakti-flow-11/
LOCATION:nuYou\, 4482 Burton Road\, Naples\, FL\, 34104\, United States
ATTACH;FMTTYPE=image/jpeg:https://nuyounaples.com/wp-content/uploads/2025/08/image0-2.jpeg
END:VEVENT
END:VCALENDAR