BEGIN:VCALENDAR
VERSION:2.0
PRODID:-//nuYou Naples - ECPv6.15.20//NONSGML v1.0//EN
CALSCALE:GREGORIAN
METHOD:PUBLISH
X-WR-CALNAME:nuYou Naples
X-ORIGINAL-URL:https://nuyounaples.com
X-WR-CALDESC:Events for nuYou Naples
REFRESH-INTERVAL;VALUE=DURATION:PT1H
X-Robots-Tag:noindex
X-PUBLISHED-TTL:PT1H
BEGIN:VTIMEZONE
TZID:America/New_York
BEGIN:DAYLIGHT
TZOFFSETFROM:-0500
TZOFFSETTO:-0400
TZNAME:EDT
DTSTART:20240310T070000
END:DAYLIGHT
BEGIN:STANDARD
TZOFFSETFROM:-0400
TZOFFSETTO:-0500
TZNAME:EST
DTSTART:20241103T060000
END:STANDARD
BEGIN:DAYLIGHT
TZOFFSETFROM:-0500
TZOFFSETTO:-0400
TZNAME:EDT
DTSTART:20250309T070000
END:DAYLIGHT
BEGIN:STANDARD
TZOFFSETFROM:-0400
TZOFFSETTO:-0500
TZNAME:EST
DTSTART:20251102T060000
END:STANDARD
BEGIN:DAYLIGHT
TZOFFSETFROM:-0500
TZOFFSETTO:-0400
TZNAME:EDT
DTSTART:20260308T070000
END:DAYLIGHT
BEGIN:STANDARD
TZOFFSETFROM:-0400
TZOFFSETTO:-0500
TZNAME:EST
DTSTART:20261101T060000
END:STANDARD
END:VTIMEZONE
BEGIN:VEVENT
DTSTART;TZID=America/New_York:20250901T190000
DTEND;TZID=America/New_York:20250901T200000
DTSTAMP:20260424T035941
CREATED:20250617T203410Z
LAST-MODIFIED:20260107T144256Z
UID:10000195-1756753200-1756756800@nuyounaples.com
SUMMARY:Intimate LEA - hosted by Michelle LEA
DESCRIPTION:  \n        7 to 8 PM \nRegister here.\nJoin Michelle LEA for a sacred monthly conversation where we explore the deeper layers of our sexuality—not just as pleasure\, but as power. \nThis session will guide you through the blocks and outdated patterns that keep you disconnected from your sensual truth. Together\, we’ll begin to unravel the shame\, conditioning\, and energetic stagnation that separate you from your divine creative essence. \nWhen you unlock the frequency of your sex\, you reclaim your ability to:\n• Manifest from your soul’s blueprint\n• Transform your emotional body through conscious energy\n• Cultivate self-mastery by feeling safe in your power and your pleasure \nThis gathering is for anyone longing to reconnect to their body\, their truth\, and the sacredness of their sensuality. You’ll walk away feeling seen\, supported\, and more deeply attuned to the infinite intelligence within you.\n~Michelle LEA \nRegister here.
URL:https://nuyounaples.com/event/raise-the-frequency-of-your-sex-hosted-by-michelle-lea-4/2025-09-01/
ATTACH;FMTTYPE=image/jpeg:https://nuyounaples.com/wp-content/uploads/2025/06/IMG_8854-2.jpg
LOCATION:https://nuyounaples.com/event/raise-the-frequency-of-your-sex-hosted-by-michelle-lea-4/2025-09-01/
END:VEVENT
BEGIN:VEVENT
DTSTART;TZID=America/New_York:20250902T063000
DTEND;TZID=America/New_York:20250902T073000
DTSTAMP:20260424T035941
CREATED:20250819T160435Z
LAST-MODIFIED:20250819T232610Z
UID:10000218-1756794600-1756798200@nuyounaples.com
SUMMARY:Shakti Flow
DESCRIPTION:Shakti Flow — Free the Feminine\nTuesdays & Thursdays | 6:30–7:30 AM\nDoors close at 6:30 sharp — safe\, closed circle for full embodiment.\n Start your day in feminine power. This guided embodiment class blends meditation\, sensual + primal flow\, and empowerment practices to awaken your Shakti energy.\nDuring class\, Michelle LEA guides you through your chakras with movement\, helping you release stuck energy and open the full current of your Shakti flow.\nWhat to Expect\n\n\n45 min guided session where your movement leads the way into freedom and release. \n\n\n10 min Embodiment meditation\, trending feminine flow\, and empowerment rituals. \n\n\n5 min  circle of gratitude and sharing to express\, release\, and rise into your power. \n\n\n\nWhat to Bring\n\nWater\nComfortable clothing that allows you to move freely and embody your authentic\, divine self.\n\n No choreography. No judgment. Just freedom\, release\, and radiance.
URL:https://nuyounaples.com/event/shakti-flow/
LOCATION:nuYou\, 4482 Burton Road\, Naples\, FL\, 34104\, United States
ATTACH;FMTTYPE=image/jpeg:https://nuyounaples.com/wp-content/uploads/2025/08/image0-2.jpeg
END:VEVENT
BEGIN:VEVENT
DTSTART;TZID=America/New_York:20250904T063000
DTEND;TZID=America/New_York:20250904T073000
DTSTAMP:20260424T035941
CREATED:20250819T162815Z
LAST-MODIFIED:20250819T232757Z
UID:10000219-1756967400-1756971000@nuyounaples.com
SUMMARY:Shakti Flow
DESCRIPTION:Shakti Flow — Free the Feminine\nTuesdays & Thursdays | 6:30–7:30 AM\nDoors close at 6:30 sharp — safe\, closed circle for full embodiment.\n Start your day in feminine power. This guided embodiment class blends meditation\, sensual + primal flow\, and empowerment practices to awaken your Shakti energy.\nDuring class\, Michelle LEA guides you through your chakras with movement\, helping you release stuck energy and open the full current of your Shakti flow.\nWhat to Expect\n\n\n45 min guided session where your movement leads the way into freedom and release. \n\n\n10 min Embodiment meditation\, trending feminine flow\, and empowerment rituals. \n\n\n5 min  circle of gratitude and sharing to express\, release\, and rise into your power. \n\n\n\nWhat to Bring\n\nWater\nComfortable clothing that allows you to move freely and embody your authentic\, divine self.\n\n No choreography. No judgment. Just freedom\, release\, and radiance.
URL:https://nuyounaples.com/event/shakti-flow-2/
LOCATION:nuYou\, 4482 Burton Road\, Naples\, FL\, 34104\, United States
ATTACH;FMTTYPE=image/jpeg:https://nuyounaples.com/wp-content/uploads/2025/08/image0-2.jpeg
END:VEVENT
END:VCALENDAR