BEGIN:VCALENDAR
VERSION:2.0
PRODID:-//nuYou Naples - ECPv6.15.20//NONSGML v1.0//EN
CALSCALE:GREGORIAN
METHOD:PUBLISH
X-ORIGINAL-URL:https://nuyounaples.com
X-WR-CALDESC:Events for nuYou Naples
REFRESH-INTERVAL;VALUE=DURATION:PT1H
X-Robots-Tag:noindex
X-PUBLISHED-TTL:PT1H
BEGIN:VTIMEZONE
TZID:America/New_York
BEGIN:DAYLIGHT
TZOFFSETFROM:-0500
TZOFFSETTO:-0400
TZNAME:EDT
DTSTART:20240310T070000
END:DAYLIGHT
BEGIN:STANDARD
TZOFFSETFROM:-0400
TZOFFSETTO:-0500
TZNAME:EST
DTSTART:20241103T060000
END:STANDARD
BEGIN:DAYLIGHT
TZOFFSETFROM:-0500
TZOFFSETTO:-0400
TZNAME:EDT
DTSTART:20250309T070000
END:DAYLIGHT
BEGIN:STANDARD
TZOFFSETFROM:-0400
TZOFFSETTO:-0500
TZNAME:EST
DTSTART:20251102T060000
END:STANDARD
BEGIN:DAYLIGHT
TZOFFSETFROM:-0500
TZOFFSETTO:-0400
TZNAME:EDT
DTSTART:20260308T070000
END:DAYLIGHT
BEGIN:STANDARD
TZOFFSETFROM:-0400
TZOFFSETTO:-0500
TZNAME:EST
DTSTART:20261101T060000
END:STANDARD
END:VTIMEZONE
BEGIN:VEVENT
DTSTART;TZID=America/New_York:20250726T090000
DTEND;TZID=America/New_York:20250726T110000
DTSTAMP:20260424T040315
CREATED:20250527T232756Z
LAST-MODIFIED:20250615T020919Z
UID:10000142-1753520400-1753527600@nuyounaples.com
SUMMARY:DIVINELY nuYOU (Ecstatic Dance Journey)
DESCRIPTION:Divinely nuYou is a space I’ve co-created with DJ Kassandra to honor the body\, the breath\, and the beat of the soul. It’s a Sunday morning sanctuary where we gather in presence\, expression\, and movement. A place where you can come exactly as you are—no masks\, no performance\, just truth. This isn’t just a dance. It’s a prayer in motion. It’s a return to your natural rhythm. It’s a remembering of the part of you that knows: you were made to move. \nWe’ll begin with breath and grounding\, open into an ecstatic dance wave guided by sound\, and end with a gentle integration to bring your nervous system back into stillness and sweetness. If you’ve never done Ecstatic Dance before\, know this: There’s no choreography. No expectations. No one is watching. \nThis is your space to feel\, to shake things loose\, and to reconnect with your own energy. The benefits are real—physical\, emotional\, spiritual. Your body moves what words can’t always express. Your breath becomes your anchor. Your soul gets to speak. \nSo bring your water\, your bare feet\, your open heart. We’ll move between the indoors and nature. We’ll rise with the sun and settle into stillness. And we’ll remember\, together\, what it feels like to be Divinely… you. \nWith so much love\, Michelle LEA \n  \nSat July 26 | 9:00 – 11:00 AM \n4482 Burton Road | Naples\, FL \n$25 energy exchange \nFlow: \n\n9:00 AM  Opening Ritual with Michelle LEA\n9:30AM Dance Wave curated by Kassandra @kassdivine\n10:45 AM 15 min Closing Circle & Grounding\n\nWhat to bring: \n\nWater\nBreathable clothes\nA yoga mat or blanket\nYour soul in motion\n\nAll are welcome. Ages 15+ (under 15 with an adult). \nThis is a sober\, phone-free space for sacred expression. \nLet the rhythm bring you home. \n 
URL:https://nuyounaples.com/event/sacred-bloom-ecstatic-dance-journey-2/
LOCATION:nuYou\, 4482 Burton Road\, Naples\, FL\, 34104\, United States
END:VEVENT
END:VCALENDAR