BEGIN:VCALENDAR
VERSION:2.0
PRODID:-//nuYou Naples - ECPv6.15.20//NONSGML v1.0//EN
CALSCALE:GREGORIAN
METHOD:PUBLISH
X-ORIGINAL-URL:https://nuyounaples.com
X-WR-CALDESC:Events for nuYou Naples
REFRESH-INTERVAL;VALUE=DURATION:PT1H
X-Robots-Tag:noindex
X-PUBLISHED-TTL:PT1H
BEGIN:VTIMEZONE
TZID:America/New_York
BEGIN:DAYLIGHT
TZOFFSETFROM:-0500
TZOFFSETTO:-0400
TZNAME:EDT
DTSTART:20240310T070000
END:DAYLIGHT
BEGIN:STANDARD
TZOFFSETFROM:-0400
TZOFFSETTO:-0500
TZNAME:EST
DTSTART:20241103T060000
END:STANDARD
BEGIN:DAYLIGHT
TZOFFSETFROM:-0500
TZOFFSETTO:-0400
TZNAME:EDT
DTSTART:20250309T070000
END:DAYLIGHT
BEGIN:STANDARD
TZOFFSETFROM:-0400
TZOFFSETTO:-0500
TZNAME:EST
DTSTART:20251102T060000
END:STANDARD
BEGIN:DAYLIGHT
TZOFFSETFROM:-0500
TZOFFSETTO:-0400
TZNAME:EDT
DTSTART:20260308T070000
END:DAYLIGHT
BEGIN:STANDARD
TZOFFSETFROM:-0400
TZOFFSETTO:-0500
TZNAME:EST
DTSTART:20261101T060000
END:STANDARD
END:VTIMEZONE
BEGIN:VEVENT
DTSTART;TZID=America/New_York:20250623T190000
DTEND;TZID=America/New_York:20250623T200000
DTSTAMP:20260424T053449
CREATED:20250612T144527Z
LAST-MODIFIED:20250612T194559Z
UID:10000151-1750705200-1750708800@nuyounaples.com
SUMMARY:Raise the Frequency of your Sex - hosted by Michelle LEA
DESCRIPTION:Monday\, June 23 and dont miss registering for Monday\, July 7 and Friday\, July 25  \n        7 to 8 PM \nCost is $33 per person \nFUN and FLEXIBLE  Outline of Class Format: \nYour body is not broken — it’s simply been disconnected. \nFrom performance to presence… From numbness to knowing… From desire to divine frequency — this is your invitation to reclaim your sensual energy\, rewrite the story of your sexuality\, and embody the love you’ve always longed for — from within. \n✨ These are not just classes — they’re activations. \nOver three transformational evenings\, we’ll blend energy medicine\, science\, somatic ritual\, and sacred feminine wisdom to awaken your deepest sensual intelligence. \nThis continuing curriculum is designed to meet you exactly where you are: \n• Whether you’re attending for the first time or returning for more — \n• Whether you’re healing from sexual disconnection or simply ready to deepen your energetic pleasure — \n• Each class offers an original transmission\, so nothing is repeated and every moment feels alive\, rich\, and relevant. \n💫 These sessions are a portal — not a performance. \nYou’ll leave each one feeling clearer\, more connected\, and vibrationally tuned into a higher form of intimacy and power. \n🜃 Your sexuality is the frequency of your creation. \nYou can’t afford to stay disconnected any longer. \n•Opening Connection & Invocation \n•What’s Alive for You – Opening discussion to bring forth the evening lessons. \n•Science-Spirit-Based Teaching – Why these topics impede pleasure in your life on all aspects. e.g. “How the sacral holds your story” or “Solar plexus and your orgasmic yes” \n•Energetic Meditation/Embodiment Practice (Ways to Awareness): Techniques and bio-hacks to bring more energy into to pleasure centers with yourself or your partner. \n•Closing Circle/Reflections
URL:https://nuyounaples.com/event/raise-the-frequency-of-your-sex-hosted-by-michelle-lea/
LOCATION:nuYou\, 4482 Burton Road\, Naples\, FL\, 34104\, United States
ATTACH;FMTTYPE=image/png:https://nuyounaples.com/wp-content/uploads/2025/06/IMG_3651.png
END:VEVENT
END:VCALENDAR