BEGIN:VCALENDAR
VERSION:2.0
PRODID:-//nuYou Naples - ECPv6.15.20//NONSGML v1.0//EN
CALSCALE:GREGORIAN
METHOD:PUBLISH
X-WR-CALNAME:nuYou Naples
X-ORIGINAL-URL:https://nuyounaples.com
X-WR-CALDESC:Events for nuYou Naples
REFRESH-INTERVAL;VALUE=DURATION:PT1H
X-Robots-Tag:noindex
X-PUBLISHED-TTL:PT1H
BEGIN:VTIMEZONE
TZID:America/New_York
BEGIN:DAYLIGHT
TZOFFSETFROM:-0500
TZOFFSETTO:-0400
TZNAME:EDT
DTSTART:20240310T070000
END:DAYLIGHT
BEGIN:STANDARD
TZOFFSETFROM:-0400
TZOFFSETTO:-0500
TZNAME:EST
DTSTART:20241103T060000
END:STANDARD
BEGIN:DAYLIGHT
TZOFFSETFROM:-0500
TZOFFSETTO:-0400
TZNAME:EDT
DTSTART:20250309T070000
END:DAYLIGHT
BEGIN:STANDARD
TZOFFSETFROM:-0400
TZOFFSETTO:-0500
TZNAME:EST
DTSTART:20251102T060000
END:STANDARD
BEGIN:DAYLIGHT
TZOFFSETFROM:-0500
TZOFFSETTO:-0400
TZNAME:EDT
DTSTART:20260308T070000
END:DAYLIGHT
BEGIN:STANDARD
TZOFFSETFROM:-0400
TZOFFSETTO:-0500
TZNAME:EST
DTSTART:20261101T060000
END:STANDARD
END:VTIMEZONE
BEGIN:VEVENT
DTSTART;TZID=America/New_York:20250531T190000
DTEND;TZID=America/New_York:20250531T220000
DTSTAMP:20260424T065349
CREATED:20250522T150338Z
LAST-MODIFIED:20250522T150423Z
UID:10000138-1748718000-1748728800@nuyounaples.com
SUMMARY:Sacred Bloom (Ecstatic Dance Journey)
DESCRIPTION:Sacred Bloom \nAn Inward Journey for Outward Expansion \nOn Becoming a nuYou \n  \nDear Beloved\, \nYou’re invited into something sacred. \nSacred Bloom isn’t just an event—it’s a remembering. Join Chelsey and Michelle LEA in a space where your body becomes the prayer\, your breath becomes the rhythm\, and your movement becomes medicine. \nWe’ll gather under the stars and sky—part indoors\, part outdoors—to dance through the layers that no longer serve and root back into who we really are. This is a place to feel free\, seen\, soft\, wild… and whole. \nWhat is Ecstatic Dance? \nIt’s not choreography. \nIt’s not performance. \nIt’s not about “getting it right.” \nIt’s about letting go. \nIt’s about feeling deeply. \nIt’s about moving in a way that only your soul knows how. \nEcstatic Dance is an open\, expressive\, barefoot experience—guided only by the music and your intuition. Together we create a safe\, sacred space of pure embodiment and divine expression. \nEvening Flow \n7:00 PM – Arrival + sacred space opens \n7:30 PM – Intention setting + gentle guided warm-up \n7:45 PM – Ecstatic Dance wave \n9:30 PM – Sound healing journey + closing circle \n10:00 PM – Integration + soft goodbyes \nWhat to Bring \n\nWater to nourish your dance\nClothes you feel free and beautiful in\nA yoga mat or small blanket for grounding\nA flower or offering (optional but lovely)\nYour full self. No mask. No pretending. Just truth.\n\nWho is this for? \nAll are welcome. Over age 15. \n(If under 15\, please come with an adult.) \nCome exactly as you are. This space is held for expression\, emotional release\, sacred movement\, and self-acceptance. You don’t have to “know how to dance.” You only need to show up. \nThis is a sober\, intentional space. No shoes. No phones. Just presence. \nWe’ll be barefoot in body and bare in soul. \nThis isn’t just a dance. It’s a becoming. \nIt’s a blooming. \nIt’s a step deeper into you. \nI can’t wait to dance with you. \n—Michelle LEA \n  \nSaturday\, May 31 | 7:00–10:00 PM \n4482 Burton Road\, Naples\, FL 34104 \n$40 exchange of energy \nStreet parking available along Burton Road
URL:https://nuyounaples.com/event/sacred-bloom-ecstatic-dance-journey/
LOCATION:nuYou\, 4482 Burton Road\, Naples\, FL\, 34104\, United States
END:VEVENT
END:VCALENDAR