BEGIN:VCALENDAR
VERSION:2.0
PRODID:-//nuYou Naples - ECPv6.15.20//NONSGML v1.0//EN
CALSCALE:GREGORIAN
METHOD:PUBLISH
X-WR-CALNAME:nuYou Naples
X-ORIGINAL-URL:https://nuyounaples.com
X-WR-CALDESC:Events for nuYou Naples
REFRESH-INTERVAL;VALUE=DURATION:PT1H
X-Robots-Tag:noindex
X-PUBLISHED-TTL:PT1H
BEGIN:VTIMEZONE
TZID:America/New_York
BEGIN:DAYLIGHT
TZOFFSETFROM:-0500
TZOFFSETTO:-0400
TZNAME:EDT
DTSTART:20250309T070000
END:DAYLIGHT
BEGIN:STANDARD
TZOFFSETFROM:-0400
TZOFFSETTO:-0500
TZNAME:EST
DTSTART:20251102T060000
END:STANDARD
BEGIN:DAYLIGHT
TZOFFSETFROM:-0500
TZOFFSETTO:-0400
TZNAME:EDT
DTSTART:20260308T070000
END:DAYLIGHT
BEGIN:STANDARD
TZOFFSETFROM:-0400
TZOFFSETTO:-0500
TZNAME:EST
DTSTART:20261101T060000
END:STANDARD
BEGIN:DAYLIGHT
TZOFFSETFROM:-0500
TZOFFSETTO:-0400
TZNAME:EDT
DTSTART:20270314T070000
END:DAYLIGHT
BEGIN:STANDARD
TZOFFSETFROM:-0400
TZOFFSETTO:-0500
TZNAME:EST
DTSTART:20271107T060000
END:STANDARD
END:VTIMEZONE
BEGIN:VEVENT
DTSTART;TZID=America/New_York:20260202T190000
DTEND;TZID=America/New_York:20260202T200000
DTSTAMP:20260423T170656
CREATED:20250617T203410Z
LAST-MODIFIED:20260107T144256Z
UID:10000200-1770058800-1770062400@nuyounaples.com
SUMMARY:Intimate LEA - hosted by Michelle LEA
DESCRIPTION:  \n        7 to 8 PM \nRegister here.\nJoin Michelle LEA for a sacred monthly conversation where we explore the deeper layers of our sexuality—not just as pleasure\, but as power. \nThis session will guide you through the blocks and outdated patterns that keep you disconnected from your sensual truth. Together\, we’ll begin to unravel the shame\, conditioning\, and energetic stagnation that separate you from your divine creative essence. \nWhen you unlock the frequency of your sex\, you reclaim your ability to:\n• Manifest from your soul’s blueprint\n• Transform your emotional body through conscious energy\n• Cultivate self-mastery by feeling safe in your power and your pleasure \nThis gathering is for anyone longing to reconnect to their body\, their truth\, and the sacredness of their sensuality. You’ll walk away feeling seen\, supported\, and more deeply attuned to the infinite intelligence within you.\n~Michelle LEA \nRegister here.
URL:https://nuyounaples.com/event/raise-the-frequency-of-your-sex-hosted-by-michelle-lea-4/2026-02-02/
ATTACH;FMTTYPE=image/jpeg:https://nuyounaples.com/wp-content/uploads/2025/06/IMG_8854-2.jpg
LOCATION:https://nuyounaples.com/event/raise-the-frequency-of-your-sex-hosted-by-michelle-lea-4/2026-02-02/
END:VEVENT
BEGIN:VEVENT
DTSTART;TZID=America/New_York:20260208T160000
DTEND;TZID=America/New_York:20260208T173000
DTSTAMP:20260423T170656
CREATED:20260107T144609Z
LAST-MODIFIED:20260128T012540Z
UID:10000320-1770566400-1770571800@nuyounaples.com
SUMMARY:LeActivation Technique Class
DESCRIPTION:Are you ready to step into a space where you can reconnect with yourself\, recharge your body\, and enhance your mental clarity? \n\n\nAwaken Your Potential with LeActivation: The Future of Consciousness is Here.\n\nWhat is LeActivation?\nA revolutionary approach to personal growth that bridges ancient wisdom with modern healing techniques. \nFocused on activating your life energy to heal\, grow\, and awaken your true self. \nIntegrates principles of Tantra\, somatic healing\, energy work\, and self-mastery for a holistic transformation. \nThe Benefits of LeActivation\n*Unlocks suppressed energy\, helping you tap into limitless creativity and vitality. \n*Facilitates emotional healing by releasing old wounds\, traumas\, and energetic blockages. \n*Enhances intimacy with yourself and others by fostering self-acceptance and confidence. \n*Supports spiritual awakening and alignment with your higher purpose. \n*Provides tools to embrace sovereignty\, joy\, and empowerment in all areas of life. \nWhy is LeActivation the Future of Consciousness?\nWe are entering a new era of awareness\, where humanity craves deeper connection\, healing\, and truth. LEA offers a cutting-edge system that blends science\, spirituality\, and ancient practices. It aligns with the shift toward energy-based healing and consciousness expansion. \nWho Needs LeActivation?\n*Seekers: Individuals exploring spiritual growth and higher consciousness. \n*Healers and Coaches: Practitioners ready to deepen their tools and offer more profound transformation. \n*Professionals and Entrepreneurs: Those feeling burnt out or disconnected\, seeking clarity and renewed purpose. \n*Couples: Partners wanting to enhance emotional intimacy and connection. \n*Anyone Ready to Transform: If you feel stuck\, lost\, or misaligned\, LEA is the bridge to your next level. \nHow LeActivation Transforms Your Life\nEmotionally: You’ll release stagnant energy and embrace deep healing. \nMentally: Shift limiting beliefs and replace them with empowering thoughts. \nPhysically: Feel more energized\, alive\, and in tune with your body. \nSpiritually: Awaken to your divine purpose and live in alignment with your highest self. \nWhat to Expect\nThe session is structured with intention to guide you through a powerful journey: \nOpening and Intention Setting (20 minutes): Begin with mindful grounding and preparing your body and mind for the practice ahead. \nSpinal and Cerebrospinal Fluid Activation (15 minutes): Engage in movements and techniques to awaken and energize your spine\, promoting vitality and fluidity. \nBreathwork Sequence (20 minutes): A guided 3-part breathwork sequence will guide you into a theta state\, where your energy body is charged\, and your physical body deeply relaxes. \nIntegration and Restorative Phase (20-30 minutes): Enter a state of healing and connection with your subconscious as your body integrates the energy flow. \nClosing and Hydration (10 minutes): Return to the present moment with a calm\, refreshed mind. We’ll provide water if needed\, followed by a Q&A or sharing session. \nWhy It Matters\nModern science and ancient wisdom align in demonstrating how mindfulness\, breathwork\, and movement enhance our physical and mental health. Books such as The Body Keeps the Score and teachings from experts like Dr. Joe Dispenza\, Dr. Zach Bush\, and Dr. Deepak Chopra reveal how past events\, even from childhood\, can manifest as stress and physical blockages in the body. These blockages disrupt balance\, accelerate aging\, and limit overall vitality. \nActivating the body’s life force energy—known in many traditions as kundalini or chi—can help release these triggers\, allowing you to: \nReduce stress and cortisol levels \nIncrease focus and clarity \nEnhance energy and resilience \nConnect to your inner self and sense of purpose \nLeaders like Tony Robbins\, Ray Dalio\, and Arianna Huffington credit practices like breathwork and mindfulness for their success\, using these tools to stay calm\, creative\, and effective in high-pressure environments. This class offers you the opportunity to incorporate these proven techniques into your own life.
URL:https://nuyounaples.com/event/leactivation-technique-class-10/
LOCATION:nuYou\, 4482 Burton Road\, Naples\, FL\, 34104\, United States
ATTACH;FMTTYPE=image/jpeg:https://nuyounaples.com/wp-content/uploads/2025/06/leactivation.jpg
END:VEVENT
BEGIN:VEVENT
DTSTART;TZID=America/New_York:20260222T160000
DTEND;TZID=America/New_York:20260222T173000
DTSTAMP:20260423T170656
CREATED:20260107T144731Z
LAST-MODIFIED:20260128T012648Z
UID:10000321-1771776000-1771781400@nuyounaples.com
SUMMARY:LeActivation Technique Class
DESCRIPTION:Are you ready to step into a space where you can reconnect with yourself\, recharge your body\, and enhance your mental clarity? \n\n\nAwaken Your Potential with LeActivation: The Future of Consciousness is Here.\n\nWhat is LeActivation?\nA revolutionary approach to personal growth that bridges ancient wisdom with modern healing techniques. \nFocused on activating your life energy to heal\, grow\, and awaken your true self. \nIntegrates principles of Tantra\, somatic healing\, energy work\, and self-mastery for a holistic transformation. \nThe Benefits of LeActivation\n*Unlocks suppressed energy\, helping you tap into limitless creativity and vitality. \n*Facilitates emotional healing by releasing old wounds\, traumas\, and energetic blockages. \n*Enhances intimacy with yourself and others by fostering self-acceptance and confidence. \n*Supports spiritual awakening and alignment with your higher purpose. \n*Provides tools to embrace sovereignty\, joy\, and empowerment in all areas of life. \nWhy is LeActivation the Future of Consciousness?\nWe are entering a new era of awareness\, where humanity craves deeper connection\, healing\, and truth. LEA offers a cutting-edge system that blends science\, spirituality\, and ancient practices. It aligns with the shift toward energy-based healing and consciousness expansion. \nWho Needs LeActivation?\n*Seekers: Individuals exploring spiritual growth and higher consciousness. \n*Healers and Coaches: Practitioners ready to deepen their tools and offer more profound transformation. \n*Professionals and Entrepreneurs: Those feeling burnt out or disconnected\, seeking clarity and renewed purpose. \n*Couples: Partners wanting to enhance emotional intimacy and connection. \n*Anyone Ready to Transform: If you feel stuck\, lost\, or misaligned\, LEA is the bridge to your next level. \nHow LeActivation Transforms Your Life\nEmotionally: You’ll release stagnant energy and embrace deep healing. \nMentally: Shift limiting beliefs and replace them with empowering thoughts. \nPhysically: Feel more energized\, alive\, and in tune with your body. \nSpiritually: Awaken to your divine purpose and live in alignment with your highest self. \nWhat to Expect\nThe session is structured with intention to guide you through a powerful journey: \nOpening and Intention Setting (20 minutes): Begin with mindful grounding and preparing your body and mind for the practice ahead. \nSpinal and Cerebrospinal Fluid Activation (15 minutes): Engage in movements and techniques to awaken and energize your spine\, promoting vitality and fluidity. \nBreathwork Sequence (20 minutes): A guided 3-part breathwork sequence will guide you into a theta state\, where your energy body is charged\, and your physical body deeply relaxes. \nIntegration and Restorative Phase (20-30 minutes): Enter a state of healing and connection with your subconscious as your body integrates the energy flow. \nClosing and Hydration (10 minutes): Return to the present moment with a calm\, refreshed mind. We’ll provide water if needed\, followed by a Q&A or sharing session. \nWhy It Matters\nModern science and ancient wisdom align in demonstrating how mindfulness\, breathwork\, and movement enhance our physical and mental health. Books such as The Body Keeps the Score and teachings from experts like Dr. Joe Dispenza\, Dr. Zach Bush\, and Dr. Deepak Chopra reveal how past events\, even from childhood\, can manifest as stress and physical blockages in the body. These blockages disrupt balance\, accelerate aging\, and limit overall vitality. \nActivating the body’s life force energy—known in many traditions as kundalini or chi—can help release these triggers\, allowing you to: \nReduce stress and cortisol levels \nIncrease focus and clarity \nEnhance energy and resilience \nConnect to your inner self and sense of purpose \nLeaders like Tony Robbins\, Ray Dalio\, and Arianna Huffington credit practices like breathwork and mindfulness for their success\, using these tools to stay calm\, creative\, and effective in high-pressure environments. This class offers you the opportunity to incorporate these proven techniques into your own life.
URL:https://nuyounaples.com/event/leactivation-technique-class-11/
LOCATION:nuYou\, 4482 Burton Road\, Naples\, FL\, 34104\, United States
ATTACH;FMTTYPE=image/jpeg:https://nuyounaples.com/wp-content/uploads/2025/06/leactivation.jpg
END:VEVENT
END:VCALENDAR