BEGIN:VCALENDAR
VERSION:2.0
PRODID:-//nuYou Naples - ECPv6.15.20//NONSGML v1.0//EN
CALSCALE:GREGORIAN
METHOD:PUBLISH
X-ORIGINAL-URL:https://nuyounaples.com
X-WR-CALDESC:Events for nuYou Naples
REFRESH-INTERVAL;VALUE=DURATION:PT1H
X-Robots-Tag:noindex
X-PUBLISHED-TTL:PT1H
BEGIN:VTIMEZONE
TZID:America/New_York
BEGIN:DAYLIGHT
TZOFFSETFROM:-0500
TZOFFSETTO:-0400
TZNAME:EDT
DTSTART:20250309T070000
END:DAYLIGHT
BEGIN:STANDARD
TZOFFSETFROM:-0400
TZOFFSETTO:-0500
TZNAME:EST
DTSTART:20251102T060000
END:STANDARD
BEGIN:DAYLIGHT
TZOFFSETFROM:-0500
TZOFFSETTO:-0400
TZNAME:EDT
DTSTART:20260308T070000
END:DAYLIGHT
BEGIN:STANDARD
TZOFFSETFROM:-0400
TZOFFSETTO:-0500
TZNAME:EST
DTSTART:20261101T060000
END:STANDARD
BEGIN:DAYLIGHT
TZOFFSETFROM:-0500
TZOFFSETTO:-0400
TZNAME:EDT
DTSTART:20270314T070000
END:DAYLIGHT
BEGIN:STANDARD
TZOFFSETFROM:-0400
TZOFFSETTO:-0500
TZNAME:EST
DTSTART:20271107T060000
END:STANDARD
END:VTIMEZONE
BEGIN:VEVENT
DTSTART;TZID=America/New_York:20260609T190000
DTEND;TZID=America/New_York:20260609T200000
DTSTAMP:20260423T201439
CREATED:20251214T232727Z
LAST-MODIFIED:20260107T144125Z
UID:10000292-1781031600-1781035200@nuyounaples.com
SUMMARY:Inner Sanctum of nuYou
DESCRIPTION:Many people are spiritually hungry but exhausted by belief systems that ask them to follow\, perform\, or conform. As religion and traditional frameworks struggle to meet modern emotional and consciousness needs\, communities become more divided and individuals feel increasingly alone\, anxious\, and disconnected from purpose. Moment of Inner Sanctum is a simple\, consistent intervention: a monthly place to gather in truth\, regulate the nervous system\, restore inner connection\, and rebuild community through lived experience\, not dogma\, so people can walk back into their lives with clarity\, meaning\, and love.\nMoment of Inner Sanctum is a monthly\, donation-free online sanctuary where people come to remember what they already know. Rooted in a modern Gnostic approach\, this gathering guides participants into direct inner knowing through Michelle LEA’s LeActivation Method\, using breath\, embodiment\, and energetic attunement to quiet mental noise and awaken truth from within. Each session includes a short teaching\, a guided LeActivation experience\, and a closing integration circle to support real-life clarity\, connection\, and meaning. \nI’d love to invite you to come unleashed in life through Inner Truth\, a monthly online community where we connect in meaningful ways without judgment\, Michelle Lea
URL:https://nuyounaples.com/event/inner-sanctum-of-nuyou/2026-06-09/
LOCATION:Zoom
ATTACH;FMTTYPE=image/jpeg:https://nuyounaples.com/wp-content/uploads/2025/12/IMG_4175.jpeg
END:VEVENT
END:VCALENDAR