BEGIN:VCALENDAR
VERSION:2.0
PRODID:-//nuYou Naples - ECPv6.15.20//NONSGML v1.0//EN
CALSCALE:GREGORIAN
METHOD:PUBLISH
X-WR-CALNAME:nuYou Naples
X-ORIGINAL-URL:https://nuyounaples.com
X-WR-CALDESC:Events for nuYou Naples
REFRESH-INTERVAL;VALUE=DURATION:PT1H
X-Robots-Tag:noindex
X-PUBLISHED-TTL:PT1H
BEGIN:VTIMEZONE
TZID:America/New_York
BEGIN:DAYLIGHT
TZOFFSETFROM:-0500
TZOFFSETTO:-0400
TZNAME:EDT
DTSTART:20230312T070000
END:DAYLIGHT
BEGIN:STANDARD
TZOFFSETFROM:-0400
TZOFFSETTO:-0500
TZNAME:EST
DTSTART:20231105T060000
END:STANDARD
BEGIN:DAYLIGHT
TZOFFSETFROM:-0500
TZOFFSETTO:-0400
TZNAME:EDT
DTSTART:20240310T070000
END:DAYLIGHT
BEGIN:STANDARD
TZOFFSETFROM:-0400
TZOFFSETTO:-0500
TZNAME:EST
DTSTART:20241103T060000
END:STANDARD
BEGIN:DAYLIGHT
TZOFFSETFROM:-0500
TZOFFSETTO:-0400
TZNAME:EDT
DTSTART:20250309T070000
END:DAYLIGHT
BEGIN:STANDARD
TZOFFSETFROM:-0400
TZOFFSETTO:-0500
TZNAME:EST
DTSTART:20251102T060000
END:STANDARD
END:VTIMEZONE
BEGIN:VEVENT
DTSTART;TZID=America/New_York:20241115T190000
DTEND;TZID=America/New_York:20241115T220000
DTSTAMP:20260424T123317
CREATED:20241031T182632Z
LAST-MODIFIED:20241116T022118Z
UID:10000101-1731697200-1731708000@nuyounaples.com
SUMMARY:Full Beaver Supermoon Celebration With Michelle Lea & Danielle
DESCRIPTION:Practices under the Beaver Moon helps us create the reserves—both emotional and physical—needed to navigate the challenges of winter.\n\n\n \nNovember’s Beaver Moon spiritual meaning symbolizes the beaver’s ability to be the architects and creators of their own life. This is something we can all learn lessons from! Use the Beaver Moon as a final motivating push before Winter to create action and transformation in your life. \nFigure out what dams you need to create to stop negative energy from draining your spiritual success. Identify and mend the cracks in your spiritual foundation to create stability and contentment. Remember\, beavers stay active all Winter long\, even when ice covers the water’s surface. \nSelf-Care Rituals: The supermoon magnifies the benefits of engaging in self-care\, helping you focus on your emotional and physical well-being\, moon bathing with full body exfoliation of sandalwood\, rose\, yogurt and honey combined with love and laughter as we embrace all of our ourselves. \nCrafting with your Spirit Animal: Create warmth and beauty in your surroundings with creative crafting from nature and inspired by your wild spirit! We will be creating a ground altar with all of the elements of our natural surroundings while uncovering your connection with your unique animal guide. We will assist you with which you are\, if you don’t already know. \nJournaling Under the Supermoon: Reflecting during the supermoon deepens your inner-connection and emotional processing\, aiding in building resilience and clarity. \nGuided Moon Rituals & Energy Clearing: Blue lotus tea of tinctures aid to Release what no longer serves you and align with the power of the Beaver Moon for inner strength and winter preparation. \nSound Healing & Meditation: Immerse yourself in sound healing vibrations and meditation to connect with the moon’s energy and ground your intentions for the season ahead. Experience Life Energy Activation and release stored emotions. \nBeaver Moon Spiritual Intentions \n\nProtection\nRelease\nCleansing\nEmpathy\nTransformation\nPreparation\n\nColors \n\nMidnight blue\nDark purple\nSage green\nGrey\n\nJournal ideas \n\nWhat’s a recent situation or emotion that feels like a dam blocking your progress? How can you work to release or navigate this blockage?\nWrite down any emotions\, thoughts\, or physical things you’re ready to release during this Beaver Moon (maybe you can use them in a Beaver Moon Release Ritual.hint\, hint).\nExplore the ideas of what practices or rituals make you feel spiritually strong and resilient?\nWho would you be if everything were taken away from you (items\, home\, career\, titles\, etc.)?\nHow is your spiritual path inspired by Nature? How can you\n\n \nWhat to Bring: \nComfortable clothing for meditation and movement \nJournal and pen for reflection \nPersonal items for the altar (crystals\, photos\, etc.) \nOpen heart and mind for connection and transformation ❤️ \n \nTicket Info: $188 per person \nLimited spaces available – reserve your spot now. \nWe look foward to connecting with each of you very soon!
URL:https://nuyounaples.com/event/full-beaver-supermoon-celebration-with-michelle-lea-danielle/
LOCATION:FL
ATTACH;FMTTYPE=image/jpeg:https://nuyounaples.com/wp-content/uploads/2024/10/4e824279de66a57a9c71980470b477c5-LAKbya.tmp_.jpg
END:VEVENT
BEGIN:VEVENT
DTSTART;TZID=America/New_York:20241109T100000
DTEND;TZID=America/New_York:20241109T120000
DTSTAMP:20260424T123317
CREATED:20241030T181640Z
LAST-MODIFIED:20241108T211130Z
UID:10000093-1731146400-1731153600@nuyounaples.com
SUMMARY:Life Energy Activation with Michelle LEA
DESCRIPTION:LEA is a powerful practice designed to awaken and elevate your vital life force energy\, enhancing overall well-being.\n\n\nThis is the Fall Series to Claim Your Sovereign Sensuality and Life Force Energy \nAs we transition into the fall season\, a time of turning inward and reflecting on our inner worlds\, it’s the perfect opportunity to deepen our connection to our sovereign sensuality and life force energy. This fall series of Life Energy Activation (LEA) classes is designed to help you harness\, alchemize\, and fully embody the vibrant energy within you\, empowering you to claim your true essence. \nIn this series\, we’ll explore the power of self-practices at home and how they can enhance your sensitivity to your life force energy. Self-practice is the foundation that allows you to cultivate a deeper connection to yourself\, fostering awareness and healing that can transform your life from the inside out. \nThe Importance of Self-Practice \nEngaging in regular self-practice is key to building your sensitivity to life force energy. By dedicating time each day to work with your energy\, you can: \n\nDevelop Greater Awareness: Notice the subtle shifts in your energy\, emotions\, and thoughts\, allowing you to address any imbalances before they manifest physically.\nEnhance Self-Healing: Empower yourself with the ability to clear blockages\, release negativity\, and restore balance\, all from the comfort of your home.\nDeepen Your Connection: Cultivate a profound relationship with your inner self\, understanding your needs\, desires\, and the wisdom that lies within.\n\nThe Role of LEA Classes \nWhile self-practice is vital\, attending LEA classes during this fall series will provide you with new tools\, guidance\, and a supportive community to further your journey. These classes will introduce techniques to amplify your life force energy and teach you how to integrate them into your daily practice. The collective energy in class settings also enhances the effectiveness of the work\, making your experiences even more transformative. \nHarnessing and Alchemizing Your Life Force Energy \nBy committing to both self-practice and LEA classes\, you can harness and alchemize your life force energy\, leading to: \n\nIncreased Vitality: Experience a renewed sense of energy and aliveness.\nEmotional Balance: Achieve inner peace by releasing pent-up emotions and clearing energetic blockages.\nMental Clarity: Quiet your mind\, reduce stress\, and improve focus.\nEnhanced Creativity: Unleash your creative potential by allowing your energy to flow freely.\nSpiritual Growth: Deepen your spiritual awareness and connection to your true essence.\n\nThis fall\, take the opportunity to reclaim your sovereign sensuality and life force energy. Start with consistent self-practice at home\, then join us in the upcoming LEA classes to learn even more tools and techniques to apply to your home practice. \nBy combining the power of self-practice with the insights and community support from LEA classes\, you can truly transform your life. Embrace your vitality\, unlock your creativity\, and step into your true power. \nReady to claim your energy? Join us for the fall series and let’s elevate our life force energy together!
URL:https://nuyounaples.com/event/life-energy-activation-with-michelle-lea-3/
LOCATION:NuYou Naples\, 4482 Burton Rd\, Naples\, FL\, 34104\, United States
ATTACH;FMTTYPE=image/jpeg:https://nuyounaples.com/wp-content/uploads/2024/10/29c78e7d9feab4b84d84b875d69fca7a-mFlljF.tmp_.jpg
END:VEVENT
BEGIN:VEVENT
DTSTART;TZID=America/New_York:20241105T190000
DTEND;TZID=America/New_York:20241105T223000
DTSTAMP:20260424T123318
CREATED:20241030T181639Z
LAST-MODIFIED:20241105T202137Z
UID:10000092-1730833200-1730845800@nuyounaples.com
SUMMARY:Life Energy Activation with Michelle LEA
DESCRIPTION:LEA is a powerful practice designed to awaken and elevate your vital life force energy\, enhancing overall well-being.\n\n\nThis is the Fall Series to Claim Your Sovereign Sensuality and Life Force Energy \nAs we transition into the fall season\, a time of turning inward and reflecting on our inner worlds\, it’s the perfect opportunity to deepen our connection to our sovereign sensuality and life force energy. This fall series of Life Energy Activation (LEA) classes is designed to help you harness\, alchemize\, and fully embody the vibrant energy within you\, empowering you to claim your true essence. \nIn this series\, we’ll explore the power of self-practices at home and how they can enhance your sensitivity to your life force energy. Self-practice is the foundation that allows you to cultivate a deeper connection to yourself\, fostering awareness and healing that can transform your life from the inside out. \nThe Importance of Self-Practice \nEngaging in regular self-practice is key to building your sensitivity to life force energy. By dedicating time each day to work with your energy\, you can: \n\nDevelop Greater Awareness: Notice the subtle shifts in your energy\, emotions\, and thoughts\, allowing you to address any imbalances before they manifest physically.\nEnhance Self-Healing: Empower yourself with the ability to clear blockages\, release negativity\, and restore balance\, all from the comfort of your home.\nDeepen Your Connection: Cultivate a profound relationship with your inner self\, understanding your needs\, desires\, and the wisdom that lies within.\n\nThe Role of LEA Classes \nWhile self-practice is vital\, attending LEA classes during this fall series will provide you with new tools\, guidance\, and a supportive community to further your journey. These classes will introduce techniques to amplify your life force energy and teach you how to integrate them into your daily practice. The collective energy in class settings also enhances the effectiveness of the work\, making your experiences even more transformative. \nHarnessing and Alchemizing Your Life Force Energy \nBy committing to both self-practice and LEA classes\, you can harness and alchemize your life force energy\, leading to: \n\nIncreased Vitality: Experience a renewed sense of energy and aliveness.\nEmotional Balance: Achieve inner peace by releasing pent-up emotions and clearing energetic blockages.\nMental Clarity: Quiet your mind\, reduce stress\, and improve focus.\nEnhanced Creativity: Unleash your creative potential by allowing your energy to flow freely.\nSpiritual Growth: Deepen your spiritual awareness and connection to your true essence.\n\nThis fall\, take the opportunity to reclaim your sovereign sensuality and life force energy. Start with consistent self-practice at home\, then join us in the upcoming LEA classes to learn even more tools and techniques to apply to your home practice. \nBy combining the power of self-practice with the insights and community support from LEA classes\, you can truly transform your life. Embrace your vitality\, unlock your creativity\, and step into your true power. \nReady to claim your energy? Join us for the fall series and let’s elevate our life force energy together!
URL:https://nuyounaples.com/event/life-energy-activation-with-michelle-lea/
LOCATION:NuYou Naples\, 4482 Burton Rd\, Naples\, FL\, 34104\, United States
ATTACH;FMTTYPE=image/jpeg:https://nuyounaples.com/wp-content/uploads/2024/10/76064cfa2f45fbeb5312aac44426c82b-eSwyWS.tmp_.jpg
END:VEVENT
BEGIN:VEVENT
DTSTART;TZID=America/New_York:20241105T190000
DTEND;TZID=America/New_York:20241105T223000
DTSTAMP:20260424T123318
CREATED:20241030T181639Z
LAST-MODIFIED:20241030T181639Z
UID:10000100-1730833200-1730845800@nuyounaples.com
SUMMARY:Life Energy Activation with Michelle LEA
DESCRIPTION:LEA is a powerful practice designed to awaken and elevate your vital life force energy\, enhancing overall well-being.\n\n\nThis is the Fall Series to Claim Your Sovereign Sensuality and Life Force Energy \nAs we transition into the fall season\, a time of turning inward and reflecting on our inner worlds\, it’s the perfect opportunity to deepen our connection to our sovereign sensuality and life force energy. This fall series of Life Energy Activation (LEA) classes is designed to help you harness\, alchemize\, and fully embody the vibrant energy within you\, empowering you to claim your true essence. \nIn this series\, we’ll explore the power of self-practices at home and how they can enhance your sensitivity to your life force energy. Self-practice is the foundation that allows you to cultivate a deeper connection to yourself\, fostering awareness and healing that can transform your life from the inside out. \nThe Importance of Self-Practice \nEngaging in regular self-practice is key to building your sensitivity to life force energy. By dedicating time each day to work with your energy\, you can: \n\nDevelop Greater Awareness: Notice the subtle shifts in your energy\, emotions\, and thoughts\, allowing you to address any imbalances before they manifest physically.\nEnhance Self-Healing: Empower yourself with the ability to clear blockages\, release negativity\, and restore balance\, all from the comfort of your home.\nDeepen Your Connection: Cultivate a profound relationship with your inner self\, understanding your needs\, desires\, and the wisdom that lies within.\n\nThe Role of LEA Classes \nWhile self-practice is vital\, attending LEA classes during this fall series will provide you with new tools\, guidance\, and a supportive community to further your journey. These classes will introduce techniques to amplify your life force energy and teach you how to integrate them into your daily practice. The collective energy in class settings also enhances the effectiveness of the work\, making your experiences even more transformative. \nHarnessing and Alchemizing Your Life Force Energy \nBy committing to both self-practice and LEA classes\, you can harness and alchemize your life force energy\, leading to: \n\nIncreased Vitality: Experience a renewed sense of energy and aliveness.\nEmotional Balance: Achieve inner peace by releasing pent-up emotions and clearing energetic blockages.\nMental Clarity: Quiet your mind\, reduce stress\, and improve focus.\nEnhanced Creativity: Unleash your creative potential by allowing your energy to flow freely.\nSpiritual Growth: Deepen your spiritual awareness and connection to your true essence.\n\nThis fall\, take the opportunity to reclaim your sovereign sensuality and life force energy. Start with consistent self-practice at home\, then join us in the upcoming LEA classes to learn even more tools and techniques to apply to your home practice. \nBy combining the power of self-practice with the insights and community support from LEA classes\, you can truly transform your life. Embrace your vitality\, unlock your creativity\, and step into your true power. \nReady to claim your energy? Join us for the fall series and let’s elevate our life force energy together!
URL:https://nuyounaples.com/event/life-energy-activation-with-michelle-lea-2/
LOCATION:NuYou Naples\, 4482 Burton Rd\, Naples\, FL\, 34104\, United States
ATTACH;FMTTYPE=image/jpeg:https://nuyounaples.com/wp-content/uploads/2024/10/76064cfa2f45fbeb5312aac44426c82b-eSwyWS.tmp_.jpg
END:VEVENT
END:VCALENDAR