BEGIN:VCALENDAR
VERSION:2.0
PRODID:-//nuYou Naples - ECPv6.15.20//NONSGML v1.0//EN
CALSCALE:GREGORIAN
METHOD:PUBLISH
X-WR-CALNAME:nuYou Naples
X-ORIGINAL-URL:https://nuyounaples.com
X-WR-CALDESC:Events for nuYou Naples
REFRESH-INTERVAL;VALUE=DURATION:PT1H
X-Robots-Tag:noindex
X-PUBLISHED-TTL:PT1H
BEGIN:VTIMEZONE
TZID:America/New_York
BEGIN:DAYLIGHT
TZOFFSETFROM:-0500
TZOFFSETTO:-0400
TZNAME:EDT
DTSTART:20250309T070000
END:DAYLIGHT
BEGIN:STANDARD
TZOFFSETFROM:-0400
TZOFFSETTO:-0500
TZNAME:EST
DTSTART:20251102T060000
END:STANDARD
BEGIN:DAYLIGHT
TZOFFSETFROM:-0500
TZOFFSETTO:-0400
TZNAME:EDT
DTSTART:20260308T070000
END:DAYLIGHT
BEGIN:STANDARD
TZOFFSETFROM:-0400
TZOFFSETTO:-0500
TZNAME:EST
DTSTART:20261101T060000
END:STANDARD
BEGIN:DAYLIGHT
TZOFFSETFROM:-0500
TZOFFSETTO:-0400
TZNAME:EDT
DTSTART:20270314T070000
END:DAYLIGHT
BEGIN:STANDARD
TZOFFSETFROM:-0400
TZOFFSETTO:-0500
TZNAME:EST
DTSTART:20271107T060000
END:STANDARD
END:VTIMEZONE
BEGIN:VEVENT
DTSTART;TZID=America/New_York:20260302T190000
DTEND;TZID=America/New_York:20260302T200000
DTSTAMP:20260423T114715
CREATED:20250617T203410Z
LAST-MODIFIED:20260107T144256Z
UID:10000201-1772478000-1772481600@nuyounaples.com
SUMMARY:Intimate LEA - hosted by Michelle LEA
DESCRIPTION:  \n        7 to 8 PM \nRegister here.\nJoin Michelle LEA for a sacred monthly conversation where we explore the deeper layers of our sexuality—not just as pleasure\, but as power. \nThis session will guide you through the blocks and outdated patterns that keep you disconnected from your sensual truth. Together\, we’ll begin to unravel the shame\, conditioning\, and energetic stagnation that separate you from your divine creative essence. \nWhen you unlock the frequency of your sex\, you reclaim your ability to:\n• Manifest from your soul’s blueprint\n• Transform your emotional body through conscious energy\n• Cultivate self-mastery by feeling safe in your power and your pleasure \nThis gathering is for anyone longing to reconnect to their body\, their truth\, and the sacredness of their sensuality. You’ll walk away feeling seen\, supported\, and more deeply attuned to the infinite intelligence within you.\n~Michelle LEA \nRegister here.
URL:https://nuyounaples.com/event/raise-the-frequency-of-your-sex-hosted-by-michelle-lea-4/2026-03-02/
ATTACH;FMTTYPE=image/jpeg:https://nuyounaples.com/wp-content/uploads/2025/06/IMG_8854-2.jpg
LOCATION:https://nuyounaples.com/event/raise-the-frequency-of-your-sex-hosted-by-michelle-lea-4/2026-03-02/
END:VEVENT
BEGIN:VEVENT
DTSTART;TZID=America/New_York:20260308T160000
DTEND;TZID=America/New_York:20260308T173000
DTSTAMP:20260423T114715
CREATED:20260107T144833Z
LAST-MODIFIED:20260128T012735Z
UID:10000322-1772985600-1772991000@nuyounaples.com
SUMMARY:LeActivation Technique Class
DESCRIPTION:Are you ready to step into a space where you can reconnect with yourself\, recharge your body\, and enhance your mental clarity? \n\n\nAwaken Your Potential with LeActivation: The Future of Consciousness is Here.\n\nWhat is LeActivation?\nA revolutionary approach to personal growth that bridges ancient wisdom with modern healing techniques. \nFocused on activating your life energy to heal\, grow\, and awaken your true self. \nIntegrates principles of Tantra\, somatic healing\, energy work\, and self-mastery for a holistic transformation. \nThe Benefits of LeActivation\n*Unlocks suppressed energy\, helping you tap into limitless creativity and vitality. \n*Facilitates emotional healing by releasing old wounds\, traumas\, and energetic blockages. \n*Enhances intimacy with yourself and others by fostering self-acceptance and confidence. \n*Supports spiritual awakening and alignment with your higher purpose. \n*Provides tools to embrace sovereignty\, joy\, and empowerment in all areas of life. \nWhy is LeActivation the Future of Consciousness?\nWe are entering a new era of awareness\, where humanity craves deeper connection\, healing\, and truth. LEA offers a cutting-edge system that blends science\, spirituality\, and ancient practices. It aligns with the shift toward energy-based healing and consciousness expansion. \nWho Needs LeActivation?\n*Seekers: Individuals exploring spiritual growth and higher consciousness. \n*Healers and Coaches: Practitioners ready to deepen their tools and offer more profound transformation. \n*Professionals and Entrepreneurs: Those feeling burnt out or disconnected\, seeking clarity and renewed purpose. \n*Couples: Partners wanting to enhance emotional intimacy and connection. \n*Anyone Ready to Transform: If you feel stuck\, lost\, or misaligned\, LEA is the bridge to your next level. \nHow LeActivation Transforms Your Life\nEmotionally: You’ll release stagnant energy and embrace deep healing. \nMentally: Shift limiting beliefs and replace them with empowering thoughts. \nPhysically: Feel more energized\, alive\, and in tune with your body. \nSpiritually: Awaken to your divine purpose and live in alignment with your highest self. \nWhat to Expect\nThe session is structured with intention to guide you through a powerful journey: \nOpening and Intention Setting (20 minutes): Begin with mindful grounding and preparing your body and mind for the practice ahead. \nSpinal and Cerebrospinal Fluid Activation (15 minutes): Engage in movements and techniques to awaken and energize your spine\, promoting vitality and fluidity. \nBreathwork Sequence (20 minutes): A guided 3-part breathwork sequence will guide you into a theta state\, where your energy body is charged\, and your physical body deeply relaxes. \nIntegration and Restorative Phase (20-30 minutes): Enter a state of healing and connection with your subconscious as your body integrates the energy flow. \nClosing and Hydration (10 minutes): Return to the present moment with a calm\, refreshed mind. We’ll provide water if needed\, followed by a Q&A or sharing session. \nWhy It Matters\nModern science and ancient wisdom align in demonstrating how mindfulness\, breathwork\, and movement enhance our physical and mental health. Books such as The Body Keeps the Score and teachings from experts like Dr. Joe Dispenza\, Dr. Zach Bush\, and Dr. Deepak Chopra reveal how past events\, even from childhood\, can manifest as stress and physical blockages in the body. These blockages disrupt balance\, accelerate aging\, and limit overall vitality. \nActivating the body’s life force energy—known in many traditions as kundalini or chi—can help release these triggers\, allowing you to: \nReduce stress and cortisol levels \nIncrease focus and clarity \nEnhance energy and resilience \nConnect to your inner self and sense of purpose \nLeaders like Tony Robbins\, Ray Dalio\, and Arianna Huffington credit practices like breathwork and mindfulness for their success\, using these tools to stay calm\, creative\, and effective in high-pressure environments. This class offers you the opportunity to incorporate these proven techniques into your own life.
URL:https://nuyounaples.com/event/leactivation-technique-class-12/
LOCATION:nuYou\, 4482 Burton Road\, Naples\, FL\, 34104\, United States
ATTACH;FMTTYPE=image/jpeg:https://nuyounaples.com/wp-content/uploads/2025/06/leactivation.jpg
END:VEVENT
BEGIN:VEVENT
DTSTART;TZID=America/New_York:20260310T190000
DTEND;TZID=America/New_York:20260310T200000
DTSTAMP:20260423T114715
CREATED:20251214T232727Z
LAST-MODIFIED:20260107T144125Z
UID:10000261-1773169200-1773172800@nuyounaples.com
SUMMARY:Inner Sanctum of nuYou
DESCRIPTION:Many people are spiritually hungry but exhausted by belief systems that ask them to follow\, perform\, or conform. As religion and traditional frameworks struggle to meet modern emotional and consciousness needs\, communities become more divided and individuals feel increasingly alone\, anxious\, and disconnected from purpose. Moment of Inner Sanctum is a simple\, consistent intervention: a monthly place to gather in truth\, regulate the nervous system\, restore inner connection\, and rebuild community through lived experience\, not dogma\, so people can walk back into their lives with clarity\, meaning\, and love.\nMoment of Inner Sanctum is a monthly\, donation-free online sanctuary where people come to remember what they already know. Rooted in a modern Gnostic approach\, this gathering guides participants into direct inner knowing through Michelle LEA’s LeActivation Method\, using breath\, embodiment\, and energetic attunement to quiet mental noise and awaken truth from within. Each session includes a short teaching\, a guided LeActivation experience\, and a closing integration circle to support real-life clarity\, connection\, and meaning. \nI’d love to invite you to come unleashed in life through Inner Truth\, a monthly online community where we connect in meaningful ways without judgment\, Michelle Lea
URL:https://nuyounaples.com/event/inner-sanctum-of-nuyou/2026-03-10/
LOCATION:Zoom
ATTACH;FMTTYPE=image/jpeg:https://nuyounaples.com/wp-content/uploads/2025/12/IMG_4175.jpeg
END:VEVENT
BEGIN:VEVENT
DTSTART;TZID=America/New_York:20260318T190000
DTEND;TZID=America/New_York:20260318T203000
DTSTAMP:20260423T114715
CREATED:20260226T192755Z
LAST-MODIFIED:20260226T192755Z
UID:10000326-1773860400-1773865800@nuyounaples.com
SUMMARY:New Moon LeActivation
DESCRIPTION:New Moon LeActivation\nWednesday\, March 18\n7:00 – 8:30 PM\nnuYou | Naples\, Florida\n$33 Energy Exchange\nJoin Michelle Lea & Special Guest Marti Apostoli for a powerful New Moon evening of activation\, embodiment\, and soul expression.\nThis immersive Light Language Transmission blends:\n• Ecstatic Dance\n• Breathwork\n• Somatic Healing\n• Guided Meditation\n• Primordial Sound Activation \nDesigned to help you release stress\, regulate your nervous system\, and move beyond the thinking mind — this experience creates space for your soul to speak. \nWhat You’ll Experience\nThe New Moon represents reset\, intention\, and creation. Through embodied movement\, breath\, and the seven primordial sounds of creation\, you will: \n• Open and soften the throat chakra\n• Shift from mental processing into energetic expression\n• Activate your creator frequency\n• Regulate your nervous system as biofeedback\n• Connect deeply with yourself and community \nThis is not performance. This is remembrance. \nAbout Your Facilitators\nMichelle Lea\, Light Language Activator & Embodied Voice Guide\nMichelle creates transformative spaces where individuals reconnect with their creator voice and awaken their authentic expression. \nSpecial Guest: Marti Apostoli\, Energy Healer\, Reiki Master\, Spiritual Coach\nMarti brings grounding Reiki energy\, intuitive guidance\, and heart-centered presence to support a safe and welcoming container for deep activation. \nThis Is a Gateway as the New Moon gathering creates a  live transmission. If something within you is ready to awaken\, this is your invitation. \n⸻ \nReserve Your Spot Now – Space is limited.
URL:https://nuyounaples.com/event/new-moon-leactivation/
LOCATION:nuYou\, 4482 Burton Road\, Naples\, FL\, 34104\, United States
ATTACH;FMTTYPE=image/jpeg:https://nuyounaples.com/wp-content/uploads/2026/02/IMG_9591.jpeg
END:VEVENT
BEGIN:VEVENT
DTSTART;TZID=America/New_York:20260322T160000
DTEND;TZID=America/New_York:20260322T173000
DTSTAMP:20260423T114715
CREATED:20260128T012209Z
LAST-MODIFIED:20260322T160542Z
UID:10000323-1774195200-1774200600@nuyounaples.com
SUMMARY:LeActivation Technique Class
DESCRIPTION:Are you ready to step into a space where you can reconnect with yourself\, recharge your body\, and enhance your mental clarity? \n\n\nAwaken Your Potential with LeActivation: The Future of Consciousness is Here.\n\nWhat is LeActivation?\nA revolutionary approach to personal growth that bridges ancient wisdom with modern healing techniques. \nFocused on activating your life energy to heal\, grow\, and awaken your true self. \nIntegrates principles of Tantra\, somatic healing\, energy work\, and self-mastery for a holistic transformation. \nThe Benefits of LeActivation\n*Unlocks suppressed energy\, helping you tap into limitless creativity and vitality. \n*Facilitates emotional healing by releasing old wounds\, traumas\, and energetic blockages. \n*Enhances intimacy with yourself and others by fostering self-acceptance and confidence. \n*Supports spiritual awakening and alignment with your higher purpose. \n*Provides tools to embrace sovereignty\, joy\, and empowerment in all areas of life. \nWhy is LeActivation the Future of Consciousness?\nWe are entering a new era of awareness\, where humanity craves deeper connection\, healing\, and truth. LEA offers a cutting-edge system that blends science\, spirituality\, and ancient practices. It aligns with the shift toward energy-based healing and consciousness expansion. \nWho Needs LeActivation?\n*Seekers: Individuals exploring spiritual growth and higher consciousness. \n*Healers and Coaches: Practitioners ready to deepen their tools and offer more profound transformation. \n*Professionals and Entrepreneurs: Those feeling burnt out or disconnected\, seeking clarity and renewed purpose. \n*Couples: Partners wanting to enhance emotional intimacy and connection. \n*Anyone Ready to Transform: If you feel stuck\, lost\, or misaligned\, LEA is the bridge to your next level. \nHow LeActivation Transforms Your Life\nEmotionally: You’ll release stagnant energy and embrace deep healing. \nMentally: Shift limiting beliefs and replace them with empowering thoughts. \nPhysically: Feel more energized\, alive\, and in tune with your body. \nSpiritually: Awaken to your divine purpose and live in alignment with your highest self. \nWhat to Expect\nThe session is structured with intention to guide you through a powerful journey: \nOpening and Intention Setting (20 minutes): Begin with mindful grounding and preparing your body and mind for the practice ahead. \nSpinal and Cerebrospinal Fluid Activation (15 minutes): Engage in movements and techniques to awaken and energize your spine\, promoting vitality and fluidity. \nBreathwork Sequence (20 minutes): A guided 3-part breathwork sequence will guide you into a theta state\, where your energy body is charged\, and your physical body deeply relaxes. \nIntegration and Restorative Phase (20-30 minutes): Enter a state of healing and connection with your subconscious as your body integrates the energy flow. \nClosing and Hydration (10 minutes): Return to the present moment with a calm\, refreshed mind. We’ll provide water if needed\, followed by a Q&A or sharing session. \nWhy It Matters\nModern science and ancient wisdom align in demonstrating how mindfulness\, breathwork\, and movement enhance our physical and mental health. Books such as The Body Keeps the Score and teachings from experts like Dr. Joe Dispenza\, Dr. Zach Bush\, and Dr. Deepak Chopra reveal how past events\, even from childhood\, can manifest as stress and physical blockages in the body. These blockages disrupt balance\, accelerate aging\, and limit overall vitality. \nActivating the body’s life force energy—known in many traditions as kundalini or chi—can help release these triggers\, allowing you to: \nReduce stress and cortisol levels \nIncrease focus and clarity \nEnhance energy and resilience \nConnect to your inner self and sense of purpose \nLeaders like Tony Robbins\, Ray Dalio\, and Arianna Huffington credit practices like breathwork and mindfulness for their success\, using these tools to stay calm\, creative\, and effective in high-pressure environments. This class offers you the opportunity to incorporate these proven techniques into your own life.
URL:https://nuyounaples.com/event/leactivation-technique-class-9/
LOCATION:nuYou\, 4482 Burton Road\, Naples\, FL\, 34104\, United States
ATTACH;FMTTYPE=image/jpeg:https://nuyounaples.com/wp-content/uploads/2025/06/leactivation.jpg
END:VEVENT
END:VCALENDAR