BEGIN:VCALENDAR
VERSION:2.0
PRODID:-//nuYou Naples - ECPv6.15.20//NONSGML v1.0//EN
CALSCALE:GREGORIAN
METHOD:PUBLISH
X-ORIGINAL-URL:https://nuyounaples.com
X-WR-CALDESC:Events for nuYou Naples
REFRESH-INTERVAL;VALUE=DURATION:PT1H
X-Robots-Tag:noindex
X-PUBLISHED-TTL:PT1H
BEGIN:VTIMEZONE
TZID:America/New_York
BEGIN:DAYLIGHT
TZOFFSETFROM:-0500
TZOFFSETTO:-0400
TZNAME:EDT
DTSTART:20240310T070000
END:DAYLIGHT
BEGIN:STANDARD
TZOFFSETFROM:-0400
TZOFFSETTO:-0500
TZNAME:EST
DTSTART:20241103T060000
END:STANDARD
BEGIN:DAYLIGHT
TZOFFSETFROM:-0500
TZOFFSETTO:-0400
TZNAME:EDT
DTSTART:20250309T070000
END:DAYLIGHT
BEGIN:STANDARD
TZOFFSETFROM:-0400
TZOFFSETTO:-0500
TZNAME:EST
DTSTART:20251102T060000
END:STANDARD
BEGIN:DAYLIGHT
TZOFFSETFROM:-0500
TZOFFSETTO:-0400
TZNAME:EDT
DTSTART:20260308T070000
END:DAYLIGHT
BEGIN:STANDARD
TZOFFSETFROM:-0400
TZOFFSETTO:-0500
TZNAME:EST
DTSTART:20261101T060000
END:STANDARD
END:VTIMEZONE
BEGIN:VEVENT
DTSTART;TZID=America/New_York:20250601T160000
DTEND;TZID=America/New_York:20250601T173000
DTSTAMP:20260424T040316
CREATED:20250522T151158Z
LAST-MODIFIED:20250522T171405Z
UID:10000139-1748793600-1748799000@nuyounaples.com
SUMMARY:LeActivation Technique Class
DESCRIPTION:
URL:https://nuyounaples.com/event/leactivation-technique-classes/
LOCATION:nuYou\, 4482 Burton Road\, Naples\, FL\, 34104\, United States
END:VEVENT
BEGIN:VEVENT
DTSTART;TZID=America/New_York:20250607T113000
DTEND;TZID=America/New_York:20250607T130000
DTSTAMP:20260424T040316
CREATED:20250528T022254Z
LAST-MODIFIED:20250528T022254Z
UID:10000143-1749295800-1749301200@nuyounaples.com
SUMMARY:The Sound of Breath
DESCRIPTION:Saturday\, June 7\, 2025 \nConsciousness Elevation for a NuYou with guest facilitator\, Talbot Steel \nJoin us as our beloved partner with one of Southwest Florida’s most beloved studios\, NuYou\, grows to bring our trademark sequences of Breathwork and Sound Healings to even more of the region!!! \nMultiple techniques combined to provide 90 minutes of transformative breathwork that will bring you amazing benefits such as: \nRelieve anxiety\, inspire creativity\, heal trauma\, boost immunity\, gain mental clarity\, improve digestion\, strengthen intuition\, achieve mental relaxation\, and massage inner organs. \nSpace is limited! \nReserve today at https://square.link/u/qW8V07Tw \n\nTime: 11:30 AM – 1:00 PM\nLocation: NuYou Transformational Studio\, 4482 Burton Rd.\, Naples\, FL 34104\nDescription: Join us for a transformative session focusing on breathwork and sound healing\, designed to elevate consciousness and promote inner balance.
URL:https://nuyounaples.com/event/the-sound-of-breath/
LOCATION:nuYou\, 4482 Burton Road\, Naples\, FL\, 34104\, United States
END:VEVENT
BEGIN:VEVENT
DTSTART;TZID=America/New_York:20250615T160000
DTEND;TZID=America/New_York:20250615T173000
DTSTAMP:20260424T040316
CREATED:20250522T152134Z
LAST-MODIFIED:20250522T170919Z
UID:10000141-1750003200-1750008600@nuyounaples.com
SUMMARY:LeActivation Technique Class
DESCRIPTION:
URL:https://nuyounaples.com/event/leactivation-technique-class-2/
LOCATION:nuYou\, 4482 Burton Road\, Naples\, FL\, 34104\, United States
END:VEVENT
BEGIN:VEVENT
DTSTART;TZID=America/New_York:20250619T183000
DTEND;TZID=America/New_York:20250619T203000
DTSTAMP:20260424T040316
CREATED:20250528T023637Z
LAST-MODIFIED:20250528T024006Z
UID:10000144-1750357800-1750365000@nuyounaples.com
SUMMARY:Intro to LeActivation @BeHot Yoga
DESCRIPTION:You’re Invited to a Special 2-Hour Introduction to LeActivation\nwith Michelle LEA at BeHot Yoga Studio\, Naples\, FL \nDear Beloved Community\, \nI’m honored to invite you to a special extended 2-hour LeActivation experience — designed especially for those who are curious about the practice and ready to understand what makes it so transformative. \nLeActivation is more than breathwork or movement — it’s a sacred remembrance. A guided somatic practice that awakens your own life force energy through intuitive movement\, breath\, sound\, and awareness of your energetic body. \nThis isn’t just another class. It’s an embodied teaching on how your nervous system\, immune function\, emotional clarity\, and personal power are all connected — and how you can become the source of your own energetic restoration. \nDuring this expanded session\, we’ll take our time: \n\nTo understand why LeActivation is different from other modalities\nTo explore how your energy body holds your story\, your stress\, and your healing\nTo experience the beauty of breath\, vibration\, and movement as medicine\nAnd to open the doors to self-transmitted transformation in a supportive\, guided space\n\nWhether you’re completely new or have felt the energy move through you before\, this class is an invitation to go deeper — and to learn how to carry this practice into your daily life. \nEvent Details: \n  \nWhere: BeHot Yoga Studio\, Naples FL \nWhen: Thursday night June 19th \nTime: 6:30-8:30pm \nTickets: go to www.behotyoga.naples \nCome exactly as you are. No experience is needed — only your breath\, your body\, and your willingness to feel. \nWith love and resonance\, \nMichelle LEA\, Founder of LeActivation \n@nuYou_Naples | www.nuYounaples.com
URL:https://nuyounaples.com/event/intro-to-leactivation-behot-yoga/
LOCATION:Be Hot Yoga\, 639 8th St. South\, Naples\, FL\, 34102\, United States
END:VEVENT
BEGIN:VEVENT
DTSTART;TZID=America/New_York:20250623T190000
DTEND;TZID=America/New_York:20250623T200000
DTSTAMP:20260424T040316
CREATED:20250612T144527Z
LAST-MODIFIED:20250612T194559Z
UID:10000151-1750705200-1750708800@nuyounaples.com
SUMMARY:Raise the Frequency of your Sex - hosted by Michelle LEA
DESCRIPTION:Monday\, June 23 and dont miss registering for Monday\, July 7 and Friday\, July 25  \n        7 to 8 PM \nCost is $33 per person \nFUN and FLEXIBLE  Outline of Class Format: \nYour body is not broken — it’s simply been disconnected. \nFrom performance to presence… From numbness to knowing… From desire to divine frequency — this is your invitation to reclaim your sensual energy\, rewrite the story of your sexuality\, and embody the love you’ve always longed for — from within. \n✨ These are not just classes — they’re activations. \nOver three transformational evenings\, we’ll blend energy medicine\, science\, somatic ritual\, and sacred feminine wisdom to awaken your deepest sensual intelligence. \nThis continuing curriculum is designed to meet you exactly where you are: \n• Whether you’re attending for the first time or returning for more — \n• Whether you’re healing from sexual disconnection or simply ready to deepen your energetic pleasure — \n• Each class offers an original transmission\, so nothing is repeated and every moment feels alive\, rich\, and relevant. \n💫 These sessions are a portal — not a performance. \nYou’ll leave each one feeling clearer\, more connected\, and vibrationally tuned into a higher form of intimacy and power. \n🜃 Your sexuality is the frequency of your creation. \nYou can’t afford to stay disconnected any longer. \n•Opening Connection & Invocation \n•What’s Alive for You – Opening discussion to bring forth the evening lessons. \n•Science-Spirit-Based Teaching – Why these topics impede pleasure in your life on all aspects. e.g. “How the sacral holds your story” or “Solar plexus and your orgasmic yes” \n•Energetic Meditation/Embodiment Practice (Ways to Awareness): Techniques and bio-hacks to bring more energy into to pleasure centers with yourself or your partner. \n•Closing Circle/Reflections
URL:https://nuyounaples.com/event/raise-the-frequency-of-your-sex-hosted-by-michelle-lea/
LOCATION:nuYou\, 4482 Burton Road\, Naples\, FL\, 34104\, United States
ATTACH;FMTTYPE=image/png:https://nuyounaples.com/wp-content/uploads/2025/06/IMG_3651.png
END:VEVENT
END:VCALENDAR